BEGIN:VCALENDAR
VERSION:2.0
PRODID:-//Opera Națională Română Cluj-Napoca - ECPv5.16.4//NONSGML v1.0//EN
CALSCALE:GREGORIAN
METHOD:PUBLISH
X-WR-CALNAME:Opera Națională Română Cluj-Napoca
X-ORIGINAL-URL:https://operacluj.ro
X-WR-CALDESC:Events for Opera Națională Română Cluj-Napoca
BEGIN:VTIMEZONE
TZID:UTC
BEGIN:STANDARD
TZOFFSETFROM:+0000
TZOFFSETTO:+0000
TZNAME:UTC
DTSTART:20200101T000000
END:STANDARD
END:VTIMEZONE
BEGIN:VEVENT
DTSTART;TZID=UTC:20200529T180000
DTEND;TZID=UTC:20200529T190000
DTSTAMP:20260425T161402
CREATED:20200509T095117Z
LAST-MODIFIED:20200530T145518Z
UID:11391-1590775200-1590778800@operacluj.ro
SUMMARY:ONLINE: BALUL OPEREI 2019
DESCRIPTION:Eveniment înregistrat în parteneriat cu TVR Cluj în data de 09.03.2019.  \nBalul Operei\, devenit prin tradiția celor 25 de ediții eveniment emblematic al instituției\, adresează\, din nou\, iubitorilor de Operă\, o clasică invitație la vals\, publicul nefiind doar spectator – cum se obișnuiește la spectacolele stagiunii –\, contribuția sa manifestându-se activ și prin participarea la dans. \nÎntreaga sală este amenajată în spirit de sărbătoare\, în încercarea de a sublinia eleganța și rafinamentul Balului Operei din Viena. Scaunele din stal sunt îndepărtate\, sala fiind special pregătită pentru a conecta zona publicului și scena. Aici\, auditoriul se află în imediata apropiere a desfășurării spectacolului\, bucurându-se de ocazionalele momente de interacțiune cu protagoniștii momentelor vocale și coregrafice.\nProgramul muzical se traduce prin același concept\, al eleganței\, și include momente orchestrale\, solistice – vocale și instrumentale: valsuri\, arii\, balade\, fragmente muzicale care respectă caracterul dansant\, fiind astfel redate și prin mișcare scenică\, prin participarea perechilor de soliști ai Ansamblului de Balet al Operei Naționale Române clujene. \nÎn contextul interpretării momentelor muzicale de către soliștii instituției alături de invitații de prestigiu ai acestei ediții – soprana Anita Hartig\, tenorul Teodor Ilincăi și dirijorul Vladimir Lungu – \, se creează oportunitatea de a le oferi recunoaștere pentru meritele profesionale\, dedicând aceeași importanță și tinerilor cu reale valențe artistice\, care promit o carieră de succes. Se decernează\, așadar\, Premiile de excelență\, acestui moment festiv urmându-i pauza de cocktail\, care reprezintă\, în esență\, o invitație la socializare. \nElementul definitoriu al serii îl reprezintă valsul\, o provocare încântătoare de a dansa alături de artiștii care au evoluat anterior pe aceeași scenă. Sustras dintr-o frază pe care Johann Strauss obișnuia să o rostească la începutul balurilor vieneze\, îndemnul Alles walzer!  încurajează publicul să ocupe sala Operei Naționale Române din Cluj-Napoca\, care devine acum un imens ring de dans pe care se obișnuiește să se valseze până după miezul nopții. \n  \nCo-Organizatori: Opera Națională Română din Cluj-Napoca și Fundația Transilvania Leaders \n  \nSusținători ai Fundației Transilvania Leaders:\nNTT DATA România\, RMB Inter Auto\, Transavia\, OTC Group\, Electrogrup\, Banca Transilvania\, Darian DRS\, EnergoBit\, Arobs Transilvania Software\, Remarul 16 Februarie \n  \nSponsori și parteneri: \nRaiffeisen Bank\, Brâncoveanu\, SABER Elyzia\, Wens Travel\, Impress Printing\, Vitrina Advertising\, Mercedes Benz\, PP Protect Security\, Hotel Opera Plaza\, Jidvei\, Ovidiu Pop\,  iTux\, Iooi Flowers\, Catwalk\, Estée Lauder\, Attitude Dance Studio\, Fundația Culturală „Simona Noja”\, Urma Fashion\, Michal Negrin\n  \nParteneri media:\nTVR 3\, TVR Cluj\, Radio România Muzical\, Radio Cluj\, Transilvania Reporter\, Monitorul de Cluj\, Făclia \n  \nPROGRAM: \n18.00-18:50 \nPrimirea invitaților pe covorul roșu \n19:00 \nIntonarea Imnului de stat al României și a Imnului Uniunii Europene \n19:10 \nCuvânt de deschidere adresat de către domnul Florin Estefan\, Manager General al Operei Naționale Române Cluj-Napoca \n19:20 \nProgramul artistic este în curs de stabilire.\n\nAcordarea premiilor: \n*Premiul \,\,Alexandru Fărcaș” pentru Tinere talente \n*Premiul \,\,Lya Hubic” \n*Premiul \,\,Dimitrie Popovici-Bayreuth” pentru excelența unei voci masculin \n*Marele Premiu al Fundației Transilvania Leaders \n 
URL:https://operacluj.ro/spectacole/2019-2020/onlinebaluloperei2019-29-mai-2020-18-00/
CATEGORIES:Spectacol online
ATTACH;FMTTYPE=image/jpeg:https://images.operacluj.ro/2019/01/HEADER-balul-operei-site-1920x839-px.jpg
END:VEVENT
END:VCALENDAR