BEGIN:VCALENDAR
VERSION:2.0
PRODID:-//Opera Națională Română Cluj-Napoca - ECPv5.16.4//NONSGML v1.0//EN
CALSCALE:GREGORIAN
METHOD:PUBLISH
X-WR-CALNAME:Opera Națională Română Cluj-Napoca
X-ORIGINAL-URL:https://operacluj.ro
X-WR-CALDESC:Events for Opera Națională Română Cluj-Napoca
BEGIN:VTIMEZONE
TZID:UTC
BEGIN:STANDARD
TZOFFSETFROM:+0000
TZOFFSETTO:+0000
TZNAME:UTC
DTSTART:20200101T000000
END:STANDARD
END:VTIMEZONE
BEGIN:VEVENT
DTSTART;TZID=UTC:20200601T100000
DTEND;TZID=UTC:20200601T170000
DTSTAMP:20260425T111252
CREATED:20200509T095259Z
LAST-MODIFIED:20200602T163009Z
UID:11402-1591005600-1591030800@operacluj.ro
SUMMARY:ONLINE: FATA BABEI ŞI FATA MOŞULUI
DESCRIPTION:Înregistrare realizată în parteneriat cu TVR Cluj în data de 29.02.2016 (Premieră) \nSpectacol pentru copii realizat în parteneriat cu Teatrul de păpuși „Puck”. \nOperetă într-un act (3 tablouri). Spectacolul ce amintește de tâlcuitorul Ion Creangă\, răsfoit cu elan în copilărie\, îi fascinează pe micii spectatori de îndată\, într-un basm pus pe note\, ce dă naștere celor mai neașteptate personaje. Adaptat după opereta „Fata moșului cea harnică”\, scrisă în anul 1982 de compozitorul Florin Comișel\, spectacolul are la bază libretul lui Cezar Țipa\, care a înțesat cu inspirație în povestea populară personaje din două alte basme celebre\, „Motanul Încălțat” și „Capra cu trei iezi”\, stârnind cu atât mai mult curiozitatea și bucuria celor mici. \nEroina operetei\, Ilenuța\, fata moșului\, candidă și modestă\, ne învață cum bunătatea\, munca\, răbdarea și seriozitatea sunt valori ce ne ajută să avem o viață frumoasă\, cu scopuri nobile. La pol opus\, Marhiolița\, fata babei\, leneșă și răutăcioasă\, nu face decât să țeasă intrigi\, rămânând în final nemulțumită și dezamăgită. Învățăturile poveștii dau naștere unei operete de esență populară\, menită să pună în lumină valorile morale ale țăranului român\, într-un spectacol regizat de Iulian Ioan Sandu\, dublat cu succes în plan muzical de aranjamentul instrumental al lui Flaviu Mogoșan. Vă așteptăm cu mic\, cu mare\, la un spectacol desprins din basmele satului românesc de odinioară\, care ne va aminti cu drag de copilărie!
URL:https://operacluj.ro/spectacole/2019-2020/onlinefatababeisifatamosului-1-iunie-2020-10-00/
CATEGORIES:Spectacol online
ATTACH;FMTTYPE=image/jpeg:https://images.operacluj.ro/2016/07/fata-babei-si-fata-mosului-opera-cluj.jpg
END:VEVENT
END:VCALENDAR