BEGIN:VCALENDAR
VERSION:2.0
PRODID:-//Opera Națională Română Cluj-Napoca - ECPv5.16.4//NONSGML v1.0//EN
CALSCALE:GREGORIAN
METHOD:PUBLISH
X-WR-CALNAME:Opera Națională Română Cluj-Napoca
X-ORIGINAL-URL:https://operacluj.ro
X-WR-CALDESC:Events for Opera Națională Română Cluj-Napoca
BEGIN:VTIMEZONE
TZID:UTC
BEGIN:STANDARD
TZOFFSETFROM:+0000
TZOFFSETTO:+0000
TZNAME:UTC
DTSTART:20200101T000000
END:STANDARD
END:VTIMEZONE
BEGIN:VEVENT
DTSTART;TZID=UTC:20200609T180000
DTEND;TZID=UTC:20200609T183000
DTSTAMP:20260424T200512
CREATED:20200607T083718Z
LAST-MODIFIED:20200610T181747Z
UID:11598-1591725600-1591727400@operacluj.ro
SUMMARY:ONLINE: AMOR AMORES
DESCRIPTION:Spectacol coregrafic de Gigi Căciuleanu\, înregistrat în data de 19.02.2020\nBalet cu bandă \nRealizat de către renumitul maestru Gigi Căciuleanu\, unul dintre cei mai apreciați coregrafi ai momentului\, acest spectacol coregrafic a stârnit interesul publicului clujean pentru lumea dansului contemporan. ”Amor Amores” a fost prezentat în premieră absolută pe scena Operei Naţionale clujene în vara anului 2014\, inaugurând la acel moment prima ediţie a Festivalului Internaţional de Dans STEPS. Coregrafia modernă\, construită ca și metaforă a sentimentelor\, ritmului și mișcării\, a adus în faţa publicului un nou tip de manifestare artistică\, de talie internaţională\, extrem de rar întâlnită la Cluj\, însă primită cu mare entuziasm şi curiozitate de publicul local. Spectacolul este susţinut de o coloană sonoră organizată de o formulă alchimică ce aparține aceluiași Gigi Căciuleanu\, ce îmbină tangouri\, canțonete și cântece de dragoste în principal din repertoriul spaniol\, semnate de Albèniz\, Cano\, de Falla\, Granados\, Lara\, Lalo\, Luna\, Rodrigo și Sarasate. Un veritabil sincretism artistic de care vă veți îndrăgosti!
URL:https://operacluj.ro/spectacole/2019-2020/onlineamoramores-9-iunie-2020-18-00/
CATEGORIES:balet,Spectacol online
ATTACH;FMTTYPE=image/jpeg:https://images.operacluj.ro/2020/06/1811-682-pixels-WD-Header-Site-Opera-AmorAmores-2.jpg
END:VEVENT
END:VCALENDAR