BEGIN:VCALENDAR
VERSION:2.0
PRODID:-//Opera Națională Română Cluj-Napoca - ECPv5.16.4//NONSGML v1.0//EN
CALSCALE:GREGORIAN
METHOD:PUBLISH
X-WR-CALNAME:Opera Națională Română Cluj-Napoca
X-ORIGINAL-URL:https://operacluj.ro
X-WR-CALDESC:Events for Opera Națională Română Cluj-Napoca
BEGIN:VTIMEZONE
TZID:UTC
BEGIN:STANDARD
TZOFFSETFROM:+0000
TZOFFSETTO:+0000
TZNAME:UTC
DTSTART:20200101T000000
END:STANDARD
END:VTIMEZONE
BEGIN:VEVENT
DTSTART;TZID=UTC:20200703T180000
DTEND;TZID=UTC:20200703T190000
DTSTAMP:20260423T050035
CREATED:20200613T084208Z
LAST-MODIFIED:20200704T145534Z
UID:11660-1593799200-1593802800@operacluj.ro
SUMMARY:ONLINE: BALUL OPEREI 2020
DESCRIPTION:Înregistrare realizată în parteneriat cu TVR Cluj\, în data de 29.02.2020. \nBalul Operei\, devenit prin tradiția celor 26 de ediții eveniment emblematic al instituției\, adresează\, din nou\, iubitorilor de Operă\, o clasică invitație la vals\, publicul nefiind doar spectator – cum se obișnuiește la spectacolele stagiunii –\, contribuția sa manifestându-se activ și prin participarea la dans. \nÎntreaga sală este amenajată în spirit de sărbătoare\, în încercarea de a sublinia eleganța și rafinamentul Balului Operei din Viena. Scaunele din stal sunt îndepărtate\, sala fiind special pregătită pentru a conecta zona publicului și scena. Aici\, auditoriul se află în imediata apropiere a desfășurării spectacolului\, bucurându-se de ocazionalele momente de interacțiune cu protagoniștii momentelor vocale și coregrafice.\nProgramul muzical se traduce prin același concept\, al eleganței\, și include momente orchestrale\, solistice – vocale și instrumentale: valsuri\, arii\, balade\, fragmente muzicale care respectă caracterul dansant\, fiind astfel redate și prin mișcare scenică\, prin participarea perechilor de soliști ai Ansamblului de Balet al Operei Naționale Române clujene. \nÎn contextul interpretării momentelor muzicale de către soliștii instituției alături de invitații de prestigiu ai acestei ediții – soprana Mihaela Marcu\, tenorul Ioan Hotea și țambalistul Marius Preda – \, se creează oportunitatea de a le oferi recunoaștere pentru meritele profesionale\, dedicând aceeași importanță și tinerilor cu reale valențe artistice\, care promit o carieră de succes. Se decernează\, așadar\, Premiile de excelență\, acestui moment festiv urmându-i pauza de cocktail\, care reprezintă\, în esență\, o invitație la socializare. \nElementul definitoriu al serii îl reprezintă valsul\, o provocare încântătoare de a dansa alături de artiștii care au evoluat anterior pe aceeași scenă. Sustras dintr-o frază pe care Johann Strauss obișnuia să o rostească la începutul balurilor vieneze\, îndemnul Alles walzer!  încurajează publicul să ocupe sala Operei Naționale Române din Cluj-Napoca\, care devine acum un imens ring de dans pe care se obișnuiește să se valseze până după miezul nopții. \n  \nCo-Organizatori: Opera Națională Română din Cluj-Napoca și Fundația Transilvania Leaders \nSusținători ai Fundației Transilvania Leaders: \nNTT DATA România\, RMB Inter Auto\, Transavia\, OTC Group\, Electrogrup\, Banca Transilvania\, Darian DRS\, EnergoBit\, Arobs Transilvania Software\, Remarul 16 Februarie\, Verdino
URL:https://operacluj.ro/spectacole/2019-2020/onlinebaluloperei2020-3-iulie-2020-18-00/
CATEGORIES:Spectacol online
ATTACH;FMTTYPE=image/jpeg:https://images.operacluj.ro/2019/01/HEADER-balul-operei-site-1920x839-px.jpg
END:VEVENT
END:VCALENDAR