BEGIN:VCALENDAR
VERSION:2.0
PRODID:-//Opera Națională Română Cluj-Napoca - ECPv5.16.4//NONSGML v1.0//EN
CALSCALE:GREGORIAN
METHOD:PUBLISH
X-WR-CALNAME:Opera Națională Română Cluj-Napoca
X-ORIGINAL-URL:https://operacluj.ro
X-WR-CALDESC:Events for Opera Națională Română Cluj-Napoca
BEGIN:VTIMEZONE
TZID:UTC
BEGIN:STANDARD
TZOFFSETFROM:+0000
TZOFFSETTO:+0000
TZNAME:UTC
DTSTART:20200101T000000
END:STANDARD
END:VTIMEZONE
BEGIN:VEVENT
DTSTART;TZID=UTC:20200718T180000
DTEND;TZID=UTC:20200718T180000
DTSTAMP:20260422T024949
CREATED:20200717T074400Z
LAST-MODIFIED:20200719T210109Z
UID:12061-1595095200-1595095200@operacluj.ro
SUMMARY:ONLINE: O seară italiană
DESCRIPTION:Înregistrare realizată pe scena Operei Națională Română din Cluj-Napoca.  \nLa bella Italia\, la bella vita\, mereu la fel de romantică\, libertină și colorată. Este o încântare să o revizitezi\, iar atunci când călătoria este una lirică\, pe acordurile canțonetelor semnate de Nisa Bixio-Rusconi\, A. Buzzi-Peccia\, E. A. Mario\, E. Capua\, S. Gastaldon\, V. de Crescenzo\, E. de Curtis\, ori Valente-Tagliaferri\, în interpretarea tenorului Marius Vlad Budoiu\, acompaniat la pian de Maestrul David Crescenzi\, experiența este de neuitat. Vă invităm să o parcurgem împreună\, purtați de povestea narată de Florin Sâmpelean! \nÎnregistrarea va fi disponibilă 24 de ore de la începerea transmisiunii online.
URL:https://operacluj.ro/spectacole/2019-2020/onlineosearaitaliana-18-iulie-2020-18-00/
CATEGORIES:Spectacol online
ATTACH;FMTTYPE=image/jpeg:https://images.operacluj.ro/2020/05/cover-site-transmis-3-scaled-1.jpg
END:VEVENT
END:VCALENDAR