BEGIN:VCALENDAR
VERSION:2.0
PRODID:-//Opera Națională Română Cluj-Napoca - ECPv5.16.4//NONSGML v1.0//EN
CALSCALE:GREGORIAN
METHOD:PUBLISH
X-WR-CALNAME:Opera Națională Română Cluj-Napoca
X-ORIGINAL-URL:https://operacluj.ro
X-WR-CALDESC:Events for Opera Națională Română Cluj-Napoca
BEGIN:VTIMEZONE
TZID:UTC
BEGIN:STANDARD
TZOFFSETFROM:+0000
TZOFFSETTO:+0000
TZNAME:UTC
DTSTART:20200101T000000
END:STANDARD
END:VTIMEZONE
BEGIN:VEVENT
DTSTART;TZID=UTC:20200801T180000
DTEND;TZID=UTC:20200801T180000
DTSTAMP:20260421T040642
CREATED:20200729T080522Z
LAST-MODIFIED:20200802T144744Z
UID:12139-1596304800-1596304800@operacluj.ro
SUMMARY:ONLINE: Seară Rachmaninov
DESCRIPTION:Înregistrare realizată pe scena Operei Națională Română din Cluj-Napoca.  \n„Iarna sunt pianist\, iar vara – compozitor” afirma pasionat Serghei Rachmaninov\, unul dintre cei mai aclamați artiști ai secolului XX. Compozitor\, dirijor şi pianist-interpret al propriilor creaţii\, acesta s-a remarcat printr-un repertoriu generos și variat de muzică orchestrală\, concertantă\, vocală\, dar și prin piese pentru pian\, muzică de cameră și operă. Prezența numelui său pe afișele vremii era suficientă pentru a transforma orice sală de spectacole într-una neîncăpătoare\, popularitatea și fascinația muzicii lui Rachmaninov rămânând la fel de actuale și în zilele noastre. \nStilul său diafan\, cutezător\, dar totodată boem și sensibil transpare negreșit și prin romanțele pe care ni le oferă soprana Diana Țugui și pianistul Mihai Diaconescu în recitalul transmis online Sâmbătă\, 1 august 2020. Apreciații artiști ne vor încânta cu lucrări precum: Insula (op.14 nr.2)\, Visul (op.8 nr.5)\, Te aștept (op.14 nr.1)\, Ape de primăvară (op.14 nr.11) șa\, toate revelându-le propria măiestrie în lirismul rus\, precum și inconfundabila armonie a „ultimului mare romantic” – precum a fost supranumit celebrul compozitor. Audiție plăcută! \n  \n  \n  \n 
URL:https://operacluj.ro/spectacole/2019-2020/onlineseararachmaninov-1-august-2020-18-00/
CATEGORIES:Spectacol online
ATTACH;FMTTYPE=image/jpeg:https://images.operacluj.ro/2020/07/cover-fb-transmisii-2-1.jpg
END:VEVENT
END:VCALENDAR