BEGIN:VCALENDAR
VERSION:2.0
PRODID:-//Opera Națională Română Cluj-Napoca - ECPv5.16.4//NONSGML v1.0//EN
CALSCALE:GREGORIAN
METHOD:PUBLISH
X-WR-CALNAME:Opera Națională Română Cluj-Napoca
X-ORIGINAL-URL:https://operacluj.ro
X-WR-CALDESC:Events for Opera Națională Română Cluj-Napoca
BEGIN:VTIMEZONE
TZID:UTC
BEGIN:STANDARD
TZOFFSETFROM:+0000
TZOFFSETTO:+0000
TZNAME:UTC
DTSTART:20200101T000000
END:STANDARD
END:VTIMEZONE
BEGIN:VEVENT
DTSTART;TZID=UTC:20200812T180000
DTEND;TZID=UTC:20200812T180000
DTSTAMP:20260420T085334
CREATED:20200810T221610Z
LAST-MODIFIED:20200813T145118Z
UID:12175-1597255200-1597255200@operacluj.ro
SUMMARY:ONLINE: Seară Enescu
DESCRIPTION:  \nÎnregistrare realizată pe scena Operei Națională Română din Cluj-Napoca.  \n„Nu visam decât să compun\, să compun şi iar să compun” afirma George Enescu\, și a făcut întocmai. Considerat cel mai important muzician român\, compozitorul care s-a exprimat artistic și ca violinist\, pianist\, dirijor și profesor cu aceeași impecabilă măiestrie\, a lăsat o moștenire lirică unică întregii lumi. \nMiercuri\, 12 august\, îi reascultăm creațiile cu aceeași fascinație în interpretarea sopranei Oana Trîmbițaș\, acompaniată la pian de Bianca Coltan\, într-un repertoriu variat\, cu tente romantice\, de inspirație franceză\, dar și note moderne\, irepetabile: Sept Chansons de Clément Marot\, Op. 15 (1908)\, voce - pian: Estrenne à Anne\, Languir me fais\, Aux damoyselles paresseusses\, Estrenne de la rose\, Present de le couleur blanche\, Changeons propos\, Du conflit en douleur\, Carillon Nocturne din Suita pentru pian nr. 3 Pièces impromptues\, Op. 18. \nRecitalul transmis online poartă o semnificație cu atât mai specială cu cât\, pe data de 19 august\, se împlinesc 139 de ani de la nașterea acestui artist prolific și etern. Audiție plăcută! \n  \n* Transmisia online va începe la ora 18:00\, fiind accesibilă timp de 24 de ore.
URL:https://operacluj.ro/spectacole/2019-2020/onlinesearaenescu-12-august-2020-18-00/
CATEGORIES:Spectacol online
ATTACH;FMTTYPE=image/jpeg:https://images.operacluj.ro/2020/08/cover-fb-transmisii-2-1-1.jpg
END:VEVENT
END:VCALENDAR