BEGIN:VCALENDAR
VERSION:2.0
PRODID:-//Opera Națională Română Cluj-Napoca - ECPv5.16.4//NONSGML v1.0//EN
CALSCALE:GREGORIAN
METHOD:PUBLISH
X-WR-CALNAME:Opera Națională Română Cluj-Napoca
X-ORIGINAL-URL:https://operacluj.ro
X-WR-CALDESC:Events for Opera Națională Română Cluj-Napoca
BEGIN:VTIMEZONE
TZID:UTC
BEGIN:STANDARD
TZOFFSETFROM:+0000
TZOFFSETTO:+0000
TZNAME:UTC
DTSTART:20200101T000000
END:STANDARD
END:VTIMEZONE
BEGIN:VEVENT
DTSTART;TZID=UTC:20200822T193000
DTEND;TZID=UTC:20200822T200000
DTSTAMP:20260419T161311
CREATED:20200720T085232Z
LAST-MODIFIED:20200829T081038Z
UID:12082-1598124600-1598126400@operacluj.ro
SUMMARY:Opera Picnic: Opriți timpul!
DESCRIPTION:*PARTICIPANȚII SUNT RUGAȚI SĂ AJUNGĂ CU 45 MINUTE ÎNAINTE DE ÎNCEPEREA REPREZENTAȚIEI \n*Pentru mai multe detalii despre eveniment\, vă recomandăm să consultați regulamentul oficial aici \n\nAcest eveniment face parte din programul artistic „Opera Summer Hub”\, co-organizat de Opera Națională Română din Cluj-Napoca\, Centrul Regional de Excelență pentru Industrii Creative Cluj-Napoca (CREIC) și Londoner\, fiind prezentat în cadrul SAMER – Stagiunea Artistică Muzicală Estivală a României. Un proiect susținut de Primăria și Consiliul Local Cluj-Napoca. Sponsori și parteneri principali: NTT DATA\, Raiffeisen Bank\, Mercedes Benz și RMB Inter-Auto\, FSP Global\, Farmec\, Rețeaua de sănătate Regina Maria\, Aqua Carpatica\, Domeniile Sâmburești\, PMA Invest\, Eco Garden Construct\, Antares. \nPrezentat în generosul amfiteatru din aer liber al Cluj Innovation Park\, Opera Picnic ne invită să ne bucurăm de serile acestei veri în prezența artiștilor Operei Naționale Române din Cluj-Napoca\, ale căror spectacole vor cuceri scena aflată în centrul peisajului verde. \nGala de operă Opriți timpul! ne oferă întocmai o călătorie melodioasă în universul lui Cronos\, unde partituri vechi și noi se intersectează într-un eveniment plin de amintiri plăcute\, nostalgii și zâmbete ale muzicii anilor ‘80. Toate acestea vor fi retrăite alături de îndrăgiți soliști ai Operei clujene: Eusebiu Huțan\, Hector Lopez\, Cristian Mogoșan și Florin Estefan\, alături de invitata specială a serii\, soprana Irina Baianț. Îi va acompania Orchestra Operei Naționale Române din Cluj-Napoca\, aflată sub bagheta Maestrului dirijor Andrei Tudor\, la rândul său invitat special al evenimentului. \nMomentele artistice vor fi complimentate și de coșul de picnic special pregătit de bucătarii Londoner\, pe care spectatorii sunt invitați să îl savureze pe terasele amfiteatrului alături de cei dragi. \n* În contextul normelor oficiale pentru prevenirea răspândirii COVID-19\, și al prevederilor sanitare\, spectatorii prezenți la acest eveniment sunt rugați să își aducă propria pătură de picnic. \nNumărul acceptat de participanți la acest proiect este de 500 persoane. \nAsigurarea măsurilor de protecție pentru prevenirea răspândirii COVID-19 \nToate inițiativele programului Opera Summer Hub se vor încadra sub incidența legii\, respectând și asigurând măsurile și regulile prevăzute pentru evenimentele culturale organizate în aer liber\, pe perioada stării de alertă\,  pentru prevenirea răspândirii COVID-19: \n\natât organizatorii\, cât și participanții vor purta în mod obligatoriu măștii care le vor acoperi atât gura\, cât și nasul\, pentru o protecție eficace;\ntemperatura tuturor participanților va fi verificată la momentul sosirii acestora\, accesul fiind permis doar dacă temperatura măsurată nu va fi mai mare de 37\,3°C;\naccesul spectatorilor se va face prin zone special amenajate și semnalizate\, asemeni ieșirii acestora\, îndeplinind distanțarea fizică și siguranța publicului;\ndelimitarea clară a spațiului în care se vor desfășura evenimentele;\norganizarea spațiului de acces va asigura distanța fizică de 1\,5 m pentru toți participanții la evenimente;\norganizarea spațiului destinat evenimentelor va permite prezența a cel mult 500 de spectatori (în cazul evenimentelor Opera Picnic)\, aflați la distanță de minimum 2 m unul față de celălalt;\namplasarea scenei la o distanță de cel puțin 3 m\, asigurând distanțarea sigură dintre interpreți și spectatori;\nbiletele spectatorilor vor fi scanate online\, evitând astfel atingerea unor suprafețe comune;\ndin același considerent\, vor fi interzise pliantele\, broșurile și alte materiale informative în format fizic;\namplasarea de dispensere cu soluții dezinfectante la intrarea în spațiul delimitat al evenimentelor\, pentru a încuraja menținerea unei igiene conforme prevenirii COVID-19.\n\nÎn concordanță cu Ordinul nr. 2.941/ 1.120/ 2020 privind măsurile pentru prevenirea contaminării cu noul coronavirus SARS-CoV-2 și pentru asigurarea desfășurării activităților în condiții de siguranță sanitară în domeniul culturii\, asumarea responsabilităților și riscurilor ce revin în urma participării la un eveniment se face de către toți participanții: organizatori\, artiști\, furnizori de servicii\, precum și spectatori. În acest context\, vă adresăm respectuos rugămintea de a urmări și respecta toate obligațiile și măsurile mai sus menționate\, presupuse pentru prevenirea răspândirea COVID-19. Vă mulțumim!
URL:https://operacluj.ro/spectacole/2019-2020/operapicnicoprititimpul-22-august-2020-19-30/
CATEGORIES:Opera Summer Hub
ATTACH;FMTTYPE=image/jpeg:https://images.operacluj.ro/2020/07/Cover-facebook-picnic-4.jpg
END:VEVENT
END:VCALENDAR