BEGIN:VCALENDAR
VERSION:2.0
PRODID:-//Opera Națională Română Cluj-Napoca - ECPv5.16.4//NONSGML v1.0//EN
CALSCALE:GREGORIAN
METHOD:PUBLISH
X-WR-CALNAME:Opera Națională Română Cluj-Napoca
X-ORIGINAL-URL:https://operacluj.ro
X-WR-CALDESC:Events for Opera Națională Română Cluj-Napoca
BEGIN:VTIMEZONE
TZID:UTC
BEGIN:STANDARD
TZOFFSETFROM:+0000
TZOFFSETTO:+0000
TZNAME:UTC
DTSTART:20220101T000000
END:STANDARD
END:VTIMEZONE
BEGIN:VEVENT
DTSTART;TZID=UTC:20220925T183000
DTEND;TZID=UTC:20220925T210000
DTSTAMP:20260425T193923
CREATED:20220721T075827Z
LAST-MODIFIED:20220925T083759Z
UID:15421-1664130600-1664139600@operacluj.ro
SUMMARY:PREMIERĂ: Cavalleria rusticana / Dodici anni dopo
DESCRIPTION:CAVALLERIA RUSTICANA \nOperă într-un act\, pe un libret de Giovanni Targioni-Tozzetti și Guido Menasci\, după drama omonimă a lui Givanni Verga \nCavalleria Rusticana de Pietro Mascagni este o operă într-un act care a avut premiera la 17 mai 1890\, la Burgtheater din Viena. Adaptată după o piesă de teatru scrisă de Giovanni Verga\, opera are loc într-o dimineață de Paște în Sicilia secolului al XIX-lea. O fată tristă și neliniștită\, Santuzza\, îl caută pe iubitul ei\, Turiddu\, care a trădat-o și s-a întors la fosta lui logodnică\, Lola\, care între timp s-a căsătorit cu bogătașul Alfio. Santuzza încearcă în zadar să-și recâștige iubitul. Înnebunită de gelozie\, îi spune lui Alfio\, soțul încornorat\, despre Lola și Turiddu. În acel moment\, soarta lui Turiddu este pecetluită. Alfio îl provoacă la duel. Astfel\, după ce își ia rămas bun de la mama sa\, Turiddu pleacă la întâlnirea fatală. \nDODICI ANNI DOPO \nIdee a regizorului și actorului sicilian Franco Zapala\, director al Gran Teatro Tenda Zappalà\, opera Dodici anni dopo (Doisprezece ani mai târziu) este inspirată din drama omonimă a lui Giovanni Grasso\, unul dintre cei mai mari actori italieni ai secolului XX\, protagonist al unor filme mute foarte cunoscute\, dintre care multe au dispărut sau au fost distruse. \nDodici anni dopo este considerată o continuare a operei Cavalleria rusticana\, din care păstrează unele trăsături muzicale fundamentale. Acțiunea se petrece în Sicilia\, de Paști\, la 12 ani după episodul tragic din Cavalleria rusticana\, marcând ziua în care Alfio iese din închisoare și se îndreaptă spre sat\, în secret\, tânjind de dorința de a fi iertat de toată lumea. Într-o atmosferă de răscumpărare care caracterizează finalul operei\, reușește să-și îndeplinească intenția. \nVârsta recomandată: 10+ \nSpectacolul are o pauză și se încheie în jurul orei 21:30
URL:https://operacluj.ro/spectacole/stagiunea-2022-2023/premieracavalleriarusticanadodiciannidopo-25-septembrie-2022-18-30/
CATEGORIES:operă
ATTACH;FMTTYPE=image/jpeg:https://images.operacluj.ro/2022/07/HEADER-site-1920x839-px-7.jpg
END:VEVENT
END:VCALENDAR