BEGIN:VCALENDAR
VERSION:2.0
PRODID:-//Opera Națională Română Cluj-Napoca - ECPv5.16.4//NONSGML v1.0//EN
CALSCALE:GREGORIAN
METHOD:PUBLISH
X-WR-CALNAME:Opera Națională Română Cluj-Napoca
X-ORIGINAL-URL:https://operacluj.ro
X-WR-CALDESC:Events for Opera Națională Română Cluj-Napoca
BEGIN:VTIMEZONE
TZID:UTC
BEGIN:STANDARD
TZOFFSETFROM:+0000
TZOFFSETTO:+0000
TZNAME:UTC
DTSTART:20220101T000000
END:STANDARD
END:VTIMEZONE
BEGIN:VEVENT
DTSTART;TZID=UTC:20221123T150000
DTEND;TZID=UTC:20221123T170000
DTSTAMP:20260421T144254
CREATED:20221107T075506Z
LAST-MODIFIED:20221107T075506Z
UID:15799-1669215600-1669222800@operacluj.ro
SUMMARY:Tururi ghidate / Guided tours
DESCRIPTION:  \nPătrunde în lumea primei instituții lirice din România și află totul despre ce se întâmplă în spatele cortinei. Pe parcursul turului vei afla mai multe despre istoria sau arhitectura clădirii dar și a instituției lirice clujene în general. În cadrul vizitei vei vedea foaierul principal\, vei intra în lojile de la rangul I\, vei vizita foaierul de la rangul II\, foaierul balconului\, sala de spectacole dar și cabinele artiștilor. \n  \nInformații:  \n  \nNumăr maximum de participanți: 25 \nDurată aproximativă: 40 minute \nLimba de desfășurarea a turului: Română sau Engleză (la cerere\, după achiziționarea biletului\, printr-un email la pr@operacluj.ro). \nAcces: Vă rugăm să fiți prezenți cu 10 minute înainte de începerea turului la intrarea principală în clădire.* \n*pe durata lucrărilor de restaurare a Parcului Ștefan cel Mare\, accesul în clădire va fi efectuat pe ușa laterală de pe latura vestică (vizavi de Panemar). \n  \nPentru grupuri organizate sau evenimente speciale vă rugăm să trimiteți un email la adresa: pr@operacluj.ro
URL:https://operacluj.ro/spectacole/stagiunea-2022-2023/tururighidateguidedtours-23-noiembrie-2022-15-00/
CATEGORIES:Vizită ghidată
ATTACH;FMTTYPE=image/jpeg:https://images.operacluj.ro/2022/11/header-noutati-1811x682-px-1.jpg
END:VEVENT
BEGIN:VEVENT
DTSTART;TZID=UTC:20221123T183000
DTEND;TZID=UTC:20221123T190000
DTSTAMP:20260421T144254
CREATED:20220808T095829Z
LAST-MODIFIED:20221101T101328Z
UID:15542-1669228200-1669230000@operacluj.ro
SUMMARY:DON QUIJOTE
DESCRIPTION:Balet în două acte și un prolog\, inspirat din romanul cu același nume de Miguel de Cervantes\n\nCu toate că romanul Don Quijote al lui Cervantes a stat la baza mai multor producții de balet semnate de coregrafi celebri\, versiunea de la Balșoi (1869) născută în urma colaborării dintre Marius Petipa și Ludwig Minkus i-a adus celui din urmă nu doar un succes fără precedent\, ci și titlul de compozitor oficial al Baletului Imperial de la Sankt Petersburg. \nÎntr-adevăr\, ritmicitatea și farmecul melodic al muzicii compozitorului austriac au fost în deplină concordanță cu scenariul comic care îi are ca protagoniști pe îndrăgostiții Kitri și Basil\, dar și pe Don Quijote. Cucerit de frumusețea lui Kitri\, în persoana căreia o vede pe Dulcineea – domnița din visurile sale – Don Quijote pornește pe urmele fetei plecate de acasă pentru a căuta fericirea alături de Basil\, departe de tatăl ei. Cavalerul va contribui la împlinirea relației celor doi\, determinându-l\, printr-un șiretlic\, pe Lorenzo – tatăl lui Kitri –\, să le accepte căsătoria. Astfel\, vicisitudinile întâmpinate de tânărul cuplu sunt depășite cu seninătate\, iar povestea se încheie cu o strălucitoare petrecere de nuntă\, la care participă\, preț de câteva momente\, și cavalerul rătăcitor\, alături de scutierul său Sancho Panza. \nSpectacolul are o pauză şi se încheie în jurul orei 20:45 \nVârsta recomandată: 5+
URL:https://operacluj.ro/spectacole/stagiunea-2022-2023/donquijote-23-noiembrie-2022-18-30/
CATEGORIES:balet
ATTACH;FMTTYPE=image/jpeg:https://images.operacluj.ro/2022/01/HEADER-site-1920x839-px-1-copy.jpg
END:VEVENT
END:VCALENDAR