BEGIN:VCALENDAR
VERSION:2.0
PRODID:-//Opera Națională Română Cluj-Napoca - ECPv5.16.4//NONSGML v1.0//EN
CALSCALE:GREGORIAN
METHOD:PUBLISH
X-WR-CALNAME:Opera Națională Română Cluj-Napoca
X-ORIGINAL-URL:https://operacluj.ro
X-WR-CALDESC:Events for Opera Națională Română Cluj-Napoca
BEGIN:VTIMEZONE
TZID:UTC
BEGIN:STANDARD
TZOFFSETFROM:+0000
TZOFFSETTO:+0000
TZNAME:UTC
DTSTART:20220101T000000
END:STANDARD
END:VTIMEZONE
BEGIN:VEVENT
DTSTART;TZID=UTC:20221129T190000
DTEND;TZID=UTC:20221129T190000
DTSTAMP:20260421T031122
CREATED:20221117T071556Z
LAST-MODIFIED:20221125T104013Z
UID:15867-1669748400-1669748400@operacluj.ro
SUMMARY:Despre cafea\, muzică și alte nimicuri esențiale
DESCRIPTION:!!Locurile la acest eveniment au fost epuizate!! \nLoc: MERON ROASTERY COFFEE LAB (STR. HOREA NR.5) \nTe invităm să iei parte la o poveste liberă cu dirijorul Tiberiu Soare și matematicianul Alin Ivan despre cafea\, despre influența cafelei în muzică\, despre muzică și filosofie și despre lucruri cărora nu le dăm importanța cuvenită\, dar fără de care viața noastră ar fi mult mai tristă. \nAtmosfera va fi completată de un grup de artiști\, care vor interpreta o partitură ce poate fi considerată exemplul suprem al adorației pentru licoarea care a făcut furori\, odată cu apariția sa\, pe tot mapamondul. \nDeși clasificată ca o cantată\, faimoasa lucrare barocă scrisă de J. S. Bach\, Cantata cafelei\, este\, în esență\, o operă comică în miniatură\, scrisă pentru soprană\, tenor și bas. Într-un comentariu satiric\, Cantata povestește în mod amuzant despre dependența de cafea. Muzica aduce în atenție această plăcere simplă\, pământească\, ce a pus stăpânire pe societatea europeană\, determinând poeții mai întâi să o preamărească și apoi\, ca în cazul textului din Cantata lui Bach\, să o satirizeze: cafeaua. Cetățenii din Leipzig\, orașul pe care Bach l-a numit acasă din 1723 încoace\, erau\, după toate aparențele\, deosebit de îndrăgostiți de această băutură nouă\, stimulantă și\, după cum considerau unii oameni din acea vreme\, periculoasă. \nTe invităm să descoperi tainele acestui fenomen la o conferință-concert cu totul originală și specială\, alături de invitați speciali.
URL:https://operacluj.ro/spectacole/stagiunea-2022-2023/desprecafeamuzicasialtenimicuriesentiale-29-noiembrie-2022-19-00/
CATEGORIES:Conferință
ATTACH;FMTTYPE=image/jpeg:https://images.operacluj.ro/2022/11/HEADER-site-1920x839-px-17.jpg
END:VEVENT
END:VCALENDAR