BEGIN:VCALENDAR
VERSION:2.0
PRODID:-//Opera Națională Română Cluj-Napoca - ECPv5.16.4//NONSGML v1.0//EN
CALSCALE:GREGORIAN
METHOD:PUBLISH
X-WR-CALNAME:Opera Națională Română Cluj-Napoca
X-ORIGINAL-URL:https://operacluj.ro
X-WR-CALDESC:Events for Opera Națională Română Cluj-Napoca
BEGIN:VTIMEZONE
TZID:UTC
BEGIN:STANDARD
TZOFFSETFROM:+0000
TZOFFSETTO:+0000
TZNAME:UTC
DTSTART:20220101T000000
END:STANDARD
END:VTIMEZONE
BEGIN:VEVENT
DTSTART;TZID=UTC:20221130T150000
DTEND;TZID=UTC:20221130T170000
DTSTAMP:20260421T011956
CREATED:20221107T075752Z
LAST-MODIFIED:20221107T075752Z
UID:15803-1669820400-1669827600@operacluj.ro
SUMMARY:Tururi ghidate / Guided tours
DESCRIPTION:  \nPătrunde în lumea primei instituții lirice din România și află totul despre ce se întâmplă în spatele cortinei. Pe parcursul turului vei afla mai multe despre istoria sau arhitectura clădirii dar și a instituției lirice clujene în general. În cadrul vizitei vei vedea foaierul principal\, vei intra în lojile de la rangul I\, vei vizita foaierul de la rangul II\, foaierul balconului\, sala de spectacole dar și cabinele artiștilor. \n  \nInformații:  \n  \nNumăr maximum de participanți: 25 \nDurată aproximativă: 40 minute \nLimba de desfășurarea a turului: Română sau Engleză (la cerere\, după achiziționarea biletului\, printr-un email la pr@operacluj.ro). \nAcces: Vă rugăm să fiți prezenți cu 10 minute înainte de începerea turului la intrarea principală în clădire.* \n*pe durata lucrărilor de restaurare a Parcului Ștefan cel Mare\, accesul în clădire va fi efectuat pe ușa laterală de pe latura vestică (vizavi de Panemar). \n  \nPentru grupuri organizate sau evenimente speciale vă rugăm să trimiteți un email la adresa: pr@operacluj.ro
URL:https://operacluj.ro/spectacole/stagiunea-2022-2023/tururighidateguidedtours-30-noiembrie-2022-15-00/
CATEGORIES:Vizită ghidată
ATTACH;FMTTYPE=image/jpeg:https://images.operacluj.ro/2022/11/header-noutati-1811x682-px-1.jpg
END:VEVENT
BEGIN:VEVENT
DTSTART;TZID=UTC:20221130T183000
DTEND;TZID=UTC:20221130T183000
DTSTAMP:20260421T011956
CREATED:20220808T095937Z
LAST-MODIFIED:20221124T092422Z
UID:15544-1669833000-1669833000@operacluj.ro
SUMMARY:Un secol de dor cu Grigore Leșe
DESCRIPTION:Un secol de dor cu Grigore Leșe este un concert amplu\, ce prezintă povestea despre trecutul nostru istoric\, o îngemănare dintre muzica tradițională și cea academică\, în care vor fi lucrări muzicale semnate de Béla Bartók\, Serghei Rahmaninov\, Johann S. Bach și Frederic Chopin. \nAbsolvent al Academiei Naționale de Muzică Gheorghe Dima din Cluj-Napoca și profesor asociat la Facultatea de Litere a Universității din București și la Universitatea de Muzică București\, interpretul de muzică tradițională românească Grigore Leșe este primul muzician român care a adus în scenă\, alături de el\, artiști tradiționali din Iran\, Siria și Pakistan\, demonstrând existența interferențelor muzicilor străvechi din România și din Orient. Muzica sa se regăseşte pe coloana sonoră a mai multor ﬁlme de artă şi documentare din ţară şi străinătate\, cum ar ﬁ The Pharaoh\, Gunpowder\, Treason and Plot (producţie BBC) sau documentarul Wild Carpathia (producție Travel Channel). \nConcertul nu are pauză și se încheie în jurul orei 20:00.
URL:https://operacluj.ro/spectacole/stagiunea-2022-2023/unsecoldedorcugrigorelese-30-noiembrie-2022-18-30/
CATEGORIES:concert vocal-instrumental
ATTACH;FMTTYPE=image/jpeg:https://images.operacluj.ro/2022/08/HEADER-site-1920x839-px-13.jpg
END:VEVENT
END:VCALENDAR