BEGIN:VCALENDAR
VERSION:2.0
PRODID:-//Opera Națională Română Cluj-Napoca - ECPv5.16.4//NONSGML v1.0//EN
CALSCALE:GREGORIAN
METHOD:PUBLISH
X-WR-CALNAME:Opera Națională Română Cluj-Napoca
X-ORIGINAL-URL:https://operacluj.ro
X-WR-CALDESC:Events for Opera Națională Română Cluj-Napoca
BEGIN:VTIMEZONE
TZID:UTC
BEGIN:STANDARD
TZOFFSETFROM:+0000
TZOFFSETTO:+0000
TZNAME:UTC
DTSTART:20220101T000000
END:STANDARD
END:VTIMEZONE
BEGIN:VEVENT
DTSTART;TZID=UTC:20221202T150000
DTEND;TZID=UTC:20221202T170000
DTSTAMP:20260420T213305
CREATED:20221107T075824Z
LAST-MODIFIED:20221107T075824Z
UID:15805-1669993200-1670000400@operacluj.ro
SUMMARY:Tururi ghidate / Guided tours
DESCRIPTION:  \nPătrunde în lumea primei instituții lirice din România și află totul despre ce se întâmplă în spatele cortinei. Pe parcursul turului vei afla mai multe despre istoria sau arhitectura clădirii dar și a instituției lirice clujene în general. În cadrul vizitei vei vedea foaierul principal\, vei intra în lojile de la rangul I\, vei vizita foaierul de la rangul II\, foaierul balconului\, sala de spectacole dar și cabinele artiștilor. \n  \nInformații:  \n  \nNumăr maximum de participanți: 25 \nDurată aproximativă: 40 minute \nLimba de desfășurarea a turului: Română sau Engleză (la cerere\, după achiziționarea biletului\, printr-un email la pr@operacluj.ro). \nAcces: Vă rugăm să fiți prezenți cu 10 minute înainte de începerea turului la intrarea principală în clădire.* \n*pe durata lucrărilor de restaurare a Parcului Ștefan cel Mare\, accesul în clădire va fi efectuat pe ușa laterală de pe latura vestică (vizavi de Panemar). \n  \nPentru grupuri organizate sau evenimente speciale vă rugăm să trimiteți un email la adresa: pr@operacluj.ro
URL:https://operacluj.ro/spectacole/stagiunea-2022-2023/tururighidateguidedtours-2-decembrie-2022-15-00/
CATEGORIES:Vizită ghidată
ATTACH;FMTTYPE=image/jpeg:https://images.operacluj.ro/2022/11/header-noutati-1811x682-px-1.jpg
END:VEVENT
BEGIN:VEVENT
DTSTART;TZID=UTC:20221202T183000
DTEND;TZID=UTC:20221202T190000
DTSTAMP:20260420T213305
CREATED:20220808T100243Z
LAST-MODIFIED:20221115T111641Z
UID:15471-1670005800-1670007600@operacluj.ro
SUMMARY:BOEMA
DESCRIPTION:Operă în patru acte pe un libret de Giuseppe Giacosa și Luigi Illica\, după Scènes de la vie de bohème de Henry Murger\n\nVârsta recomandată: 7+ \n\nLa bohème\, compusă în 1895\, reflectă în totalitate măiestria cu care compozitorul Giacomo Puccini s-a raportat la considerentele curentului verist și orientarea spre realitate a operei italiene în a doua jumătate a secolului XX. Evitând exagerările cu care erau redate adesea dramele personale\, problemele de natură psihologică\, Puccini și-a transmis într-o manieră puternic individualizată mesajele de protest la adresa asupririi (Tosca)\, sau privind condițiile mizere din cartierele mărginașe ale Parisului anilor 1830\, unde își duceau existența mulți dintre tinerii intelectuali. Acestea fac și subiectul romanului în serie Scènes de la vie de bohème al lui Henry Murger\, publicat în 1851 sub forma unitară a unei cărți intitulate La vie de bohème\, care relatează un episod din \,\,viața veselă și teribilă” a unor artiști și are un fond autobiografic. \nTema a fost preluată ulterior de către libretiștii Giuseppe Giacosa\, Luigi Illica și compozitorul Giacomo Puccini care\, utilizând un limbaj muzical îmbogățit și înnoit\, transpune în cadrul operei La bohème povestea a patru prieteni – pictorul Marcello\, poetul Rodolfo\, muzicianul Schaunard și filosoful Colline – rămași nedespărțiți în ciuda vicisitudinilor întîmpinate\, multe dintre ele generate de condițiile precare de trai zilnic. Sentimentul dragostei\, combinat cu tandrețea și spiritul de sacrificiu care se manifestă în relația dintre Mimì și Rodolfo\, sau cu gelozia\, extravangața în cazul cuplului Musetta-Marcello\, dar și situațiile comice care îi au ca \,\,protagoniști” pe Benoit – proprietarul mansardei sărăcăcioase unde locuiesc cei patru tineri – sau pe Alcindoro – bătrânelul caraghios\, dar bogat\, care îi ține companiei Musettei – sunt redate prin sonorități fermecătoare\, melodii sugestive și o dinamică adaptată întocmai. Tragicul final al morții lui Mimì nu face decât să accentueze și mai mult esența veristă a lucrării. \nDeși în momentul premierei desfășurate sub bagheta dirijorului Arturo Toscanini la 1 februarie 1896\, pe scena Teatrului La Fenice din Veneția\, criticul muzical Carlo Bersezio susținea că \,\,La bohème nu va lăsa probabil urme deosebite în teatrul nostru”\, opera se va impune în întreaga peninsulă italiană și\, mai apoi\, la Buenos Aires\, Alexandria\, Lisabona\, Moscova și Londra (14 octombrie 1897) – printr-o reprezentație la Royal Opera House\, care i-a statornicit\, de altfel\, succesul mondial. \nSpectacolul are trei pauze şi se încheie în jurul orei 21.00
URL:https://operacluj.ro/spectacole/stagiunea-2022-2023/boema-2-decembrie-2022-18-30/
CATEGORIES:operă
ATTACH;FMTTYPE=image/jpeg:https://images.operacluj.ro/2019/10/Boema-Header-1920x839-px-3-1.jpg
END:VEVENT
END:VCALENDAR