BEGIN:VCALENDAR
VERSION:2.0
PRODID:-//Opera Națională Română Cluj-Napoca - ECPv5.16.4//NONSGML v1.0//EN
CALSCALE:GREGORIAN
METHOD:PUBLISH
X-WR-CALNAME:Opera Națională Română Cluj-Napoca
X-ORIGINAL-URL:https://operacluj.ro
X-WR-CALDESC:Events for Opera Națională Română Cluj-Napoca
BEGIN:VTIMEZONE
TZID:UTC
BEGIN:STANDARD
TZOFFSETFROM:+0000
TZOFFSETTO:+0000
TZNAME:UTC
DTSTART:20220101T000000
END:STANDARD
END:VTIMEZONE
BEGIN:VEVENT
DTSTART;TZID=UTC:20221218T183000
DTEND;TZID=UTC:20221218T183000
DTSTAMP:20260419T180637
CREATED:20220809T095726Z
LAST-MODIFIED:20221118T074550Z
UID:15508-1671388200-1671388200@operacluj.ro
SUMMARY:SOLD OUT: WINTER DELIGHTS
DESCRIPTION:!! Acest spectacol este SOLD OUT! \nConcert tradițional de Crăciun \nReîmpodobim și în acest an sala de spectacole cu mii de lumini colorate și strălucirea colindelor din repertoriul tradițional și universal de Crăciun\, în interpretarea soliștilor\, corului\, a ansamblului de balet și a orchestrei Operei Naționale Române Cluj-Napoca. Melodii familiare vă vor încânta\, așadar\, auzul\, îmbiindu-vă să vă alăturați în intonarea unor versuri românești cunoscute încă din copilărie\, însă nu vor lipsi nici lucrări care răsună pe întreaga planetă\, răspândind cu rapiditate atmosfera de sărbătoare. \nSpectacolul are o pauză și se încheie în jurul orei 20:30 \nVârsta recomandată: 5+ \nMulțumiri speciale 3PLANESOFT pentru animațiile proiectate în cadrul acestui eveniment.
URL:https://operacluj.ro/spectacole/stagiunea-2022-2023/soldoutwinterdelights-18-decembrie-2022-18-30/
ATTACH;FMTTYPE=image/jpeg:https://images.operacluj.ro/2022/08/HEADER-site-wd-1920x839-px.jpg
END:VEVENT
END:VCALENDAR