BEGIN:VCALENDAR
VERSION:2.0
PRODID:-//Opera Națională Română Cluj-Napoca - ECPv5.16.4//NONSGML v1.0//EN
CALSCALE:GREGORIAN
METHOD:PUBLISH
X-WR-CALNAME:Opera Națională Română Cluj-Napoca
X-ORIGINAL-URL:https://operacluj.ro
X-WR-CALDESC:Events for Opera Națională Română Cluj-Napoca
BEGIN:VTIMEZONE
TZID:UTC
BEGIN:STANDARD
TZOFFSETFROM:+0000
TZOFFSETTO:+0000
TZNAME:UTC
DTSTART:20250101T000000
END:STANDARD
END:VTIMEZONE
BEGIN:VEVENT
DTSTART;TZID=UTC:20250511T190000
DTEND;TZID=UTC:20250511T210000
DTSTAMP:20260423T012928
CREATED:20250331T122956Z
LAST-MODIFIED:20250509T082558Z
UID:20557-1746990000-1746997200@operacluj.ro
SUMMARY:Cluj Chamber Music Festival: Reflexii Sonore
DESCRIPTION:Aflat la cea de a treia ediție\, Cluj Chamber Music Festival\, aduce în prim-plan frumusețea și rafinamentul muzicii de cameră. Desfășurat în perioada 9-20 mai\, în diferite locații din Cluj-Napoca\, festivalul vă propune 11 recitaluri interpretate de artiști de prestigiu ai Operei Naționale Române Cluj-Napoca\, alături de invitați speciali din țară și străinătate.  \nDuminică\, 11 mai\, de la ora 19:00\, la Casa Numaa\, Cluj Chamber Music Festival oferă o seară dedicată tinerei generații de artiști. \nSub titlul Reflexii Sonore\, formații camerale formate din studenți ai Academiei Naționale de Muzică „Gheorghe Dima” din Cluj-Napoca vor interpreta lucrări consacrate din repertoriul cameral universal. Acest concert aduce în prim-plan talentul și pasiunea unor muzicieni aflați la început de drum\, oferindu-vă o experiență muzicală vibrantă și autentică. \nVă invităm să descoperim împreună energia și sensibilitatea noii generații de interpreți! \nEvenimentul nu are pauză și se încheie în jurul orei 20:30. \nVârstă recomandată: 12+
URL:https://operacluj.ro/spectacole/2024-2025/clujchambermusicfestivalreflexiisonore-11-mai-2025-19-00/
CATEGORIES:Recital cameral
ATTACH;FMTTYPE=image/png:https://images.operacluj.ro/2025/03/Header-Site_Cluj-Chamber-Music_1920-x-839-1.png
END:VEVENT
END:VCALENDAR