BEGIN:VCALENDAR
VERSION:2.0
PRODID:-//Opera Națională Română Cluj-Napoca - ECPv5.16.4//NONSGML v1.0//EN
CALSCALE:GREGORIAN
METHOD:PUBLISH
X-WR-CALNAME:Opera Națională Română Cluj-Napoca
X-ORIGINAL-URL:https://operacluj.ro
X-WR-CALDESC:Events for Opera Națională Română Cluj-Napoca
BEGIN:VTIMEZONE
TZID:UTC
BEGIN:STANDARD
TZOFFSETFROM:+0000
TZOFFSETTO:+0000
TZNAME:UTC
DTSTART:20250101T000000
END:STANDARD
END:VTIMEZONE
BEGIN:VEVENT
DTSTART;TZID=UTC:20250515T150000
DTEND;TZID=UTC:20250515T170000
DTSTAMP:20260422T181127
CREATED:20250429T075916Z
LAST-MODIFIED:20250429T075916Z
UID:20834-1747321200-1747328400@operacluj.ro
SUMMARY:Tururi ghidate / Guided tours
DESCRIPTION:Informații: \nVârsta recomandată: 12+ \nNumăr maxim de participanți: 25 \nDurată aproximativă: 40 minute \nLimba de desfășurarea a turului: Română sau Engleză (la cerere\, după achiziționarea biletului\, printr-un email la pr@operacluj.ro). Cererile pentru limba engleză se realizează cu cel puțin 24 de ore înaintea turului ghidat. \nAcces: Vă rugăm să fiți prezenți cu 10 minute înainte de începerea turului la intrarea principală în clădire. \nPentru grupuri organizate sau evenimente speciale vă rugăm să trimiteți un email la adresa: pr@operacluj.ro \n 
URL:https://operacluj.ro/spectacole/2024-2025/tururighidateguidedtours-15-mai-2025-15-00/
CATEGORIES:Vizită ghidată
ATTACH;FMTTYPE=image/jpeg:https://images.operacluj.ro/2022/11/header-noutati-1811x682-px-1.jpg
END:VEVENT
BEGIN:VEVENT
DTSTART;TZID=UTC:20250515T190000
DTEND;TZID=UTC:20250515T210000
DTSTAMP:20260422T181127
CREATED:20250331T123209Z
LAST-MODIFIED:20250508T061249Z
UID:20564-1747335600-1747342800@operacluj.ro
SUMMARY:Cluj Chamber Music Festival: Liszt în oglindă
DESCRIPTION:Aflat la cea de a treia ediție\, Cluj Chamber Music Festival\, aduce în prim-plan frumusețea și rafinamentul muzicii de cameră. Desfășurat în perioada 9-20 mai\, în diferite locații din Cluj-Napoca\, festivalul vă propune 11 recitaluri interpretate de artiști de prestigiu ai Operei Naționale Române Cluj-Napoca\, alături de invitați speciali din țară și străinătate.  \nJoi\, 15 mai\, de la ora 19:00\, la Cercul Militar\, Cluj Chamber Music Festival vă invită la un recital deosebit\, dedicat unui maestru al muzicii romantice – Franz Liszt. \nÎn cadrul evenimentului Liszt în Oglindă\, Mihai Damian (bariton) și Anna Stănescu (soprană\, invitată) vor interpreta o selecție de lieduri din ampla creație a compozitorului Franz Liszt\, acompaniați de pianista Lelia Serafinceanu. Această seară va aduce în prim-plan delicatețea și profunzimea muzicală a liedurilor\, într-un cadru solemn. \nEvenimentul nu are pauză și se încheie în jurul orei 20:00. \nVârstă recomandată: 12+
URL:https://operacluj.ro/spectacole/2024-2025/clujchambermusicfestivallisztinoglinda-15-mai-2025-19-00/
CATEGORIES:Recital cameral
ATTACH;FMTTYPE=image/png:https://images.operacluj.ro/2025/03/Header-Site_Cluj-Chamber-Music_1920-x-839-1.png
END:VEVENT
END:VCALENDAR