BEGIN:VCALENDAR
VERSION:2.0
PRODID:-//Opera Națională Română Cluj-Napoca - ECPv5.16.4//NONSGML v1.0//EN
CALSCALE:GREGORIAN
METHOD:PUBLISH
X-WR-CALNAME:Opera Națională Română Cluj-Napoca
X-ORIGINAL-URL:https://operacluj.ro
X-WR-CALDESC:Events for Opera Națională Română Cluj-Napoca
BEGIN:VTIMEZONE
TZID:UTC
BEGIN:STANDARD
TZOFFSETFROM:+0000
TZOFFSETTO:+0000
TZNAME:UTC
DTSTART:20250101T000000
END:STANDARD
END:VTIMEZONE
BEGIN:VEVENT
DTSTART;TZID=UTC:20250625T180000
DTEND;TZID=UTC:20250625T203000
DTSTAMP:20260419T231453
CREATED:20250604T055849Z
LAST-MODIFIED:20250610T104758Z
UID:20995-1750874400-1750883400@operacluj.ro
SUMMARY:OPERA APERTA 2025: EN FANFARE!
DESCRIPTION:FESTIVALUL INTERNAȚIONAL OPERA APERTA 2025 \nPregătiți-vă pentru o defilare sonoră de forță și rafinament! Muzica Militară a Diviziei 4 Infanterie „Gemina” vine să cucerească scena cu un concert care îmbină precizia militară cu spectacolul pur! \n Sub bagheta riguroasă\, dar plină de farmec\, a acestei formații de elită\, veți auzi un cocktail sonor spectaculos: marșuri impunătoare\, polci pline de umor\, valsuri romantice\, tangouri pasionale și hituri de jazz\, muzică de film și adaptări din opere celebre. De la Carmen și Largo al factotum până la Tom și Jerry\, Satchmo! și Tarzan\, repertoriul este un adevărat tur de forță prin genuri\, epoci și emoții. \nCu o sonoritate vibrantă\, carismă și o prezență scenică remarcabilă\, fanfara transformă seara într-un adevărat spectacol al entuziasmului colectiv – în care aplauzele\, zâmbetele și bucuria sunt garantate. \nUn eveniment pentru toate vârstele\, pentru toate gusturile – și pentru toți cei care vor să simtă muzica la intensitate maximă. \nAccesul este liber. \nVârstă recomandată: 7+
URL:https://operacluj.ro/spectacole/2024-2025/operaaperta2025enfanfare-25-iunie-2025-18-00/
CATEGORIES:concert
ATTACH;FMTTYPE=image/png:https://images.operacluj.ro/2025/05/Header-Site_1920-x-839-5.png
END:VEVENT
BEGIN:VEVENT
DTSTART;TZID=UTC:20250625T190000
DTEND;TZID=UTC:20250625T203000
DTSTAMP:20260419T231453
CREATED:20250604T055927Z
LAST-MODIFIED:20250623T152010Z
UID:21001-1750878000-1750883400@operacluj.ro
SUMMARY:OPERA APERTA 2025: SUNT PE UN DRUM LUNG
DESCRIPTION:FESTIVALUL INTERNAȚIONAL OPERA APERTA 2025 \nO seară de emoție pură\, în care poezia rostită și muzica live creează un univers intim\, fragil și profund. Actrița Diana Furnică dă voce cuvintelor\, iar Ștefan Lupu\, cunoscut pentru sensibilitatea și rafinamentul său artistic\, le însoțește la chitară clasică\, într-un recital care celebrează drumul – ca metaforă\, ca destin\, ca introspecție. \n„Sunt pe un drum lung” este mai mult decât un spectacol – este o călătorie sonoră și lirică prin gânduri\, stări și vise. Fiecare vers și fiecare acord invită la reflecție\, într-un cadru elegant și prietenos\, ideal pentru publicul de toate vârstele. \nUn moment de liniște\, profunzime și frumusețe în mijlocul efervescenței festivalului. \nAccesul este liber în limita locurilor disponibile. \nFestivalul Internațional Opera Aperta este realizat cu sprijinul Ministerului Culturii\, Primăriei Municipiului Cluj-Napoca\, Consiliului Local Cluj-Napoca\, Consiliului Județean Cluj și al Asociației „Opera 2 You”. \nVârstă recomandată: 7+
URL:https://operacluj.ro/spectacole/2024-2025/operaaperta2025suntpeundrumlung-25-iunie-2025-19-00/
CATEGORIES:concert
ATTACH;FMTTYPE=image/png:https://images.operacluj.ro/2025/05/Header-Site_1920-x-839-15-1.png
END:VEVENT
END:VCALENDAR