BEGIN:VCALENDAR
VERSION:2.0
PRODID:-//Opera Națională Română Cluj-Napoca - ECPv5.16.4//NONSGML v1.0//EN
CALSCALE:GREGORIAN
METHOD:PUBLISH
X-WR-CALNAME:Opera Națională Română Cluj-Napoca
X-ORIGINAL-URL:https://operacluj.ro
X-WR-CALDESC:Events for Opera Națională Română Cluj-Napoca
BEGIN:VTIMEZONE
TZID:UTC
BEGIN:STANDARD
TZOFFSETFROM:+0000
TZOFFSETTO:+0000
TZNAME:UTC
DTSTART:20260101T000000
END:STANDARD
END:VTIMEZONE
BEGIN:VEVENT
DTSTART;TZID=UTC:20260911T183000
DTEND;TZID=UTC:20260911T190000
DTSTAMP:20260424T095529
CREATED:20260316T063124Z
LAST-MODIFIED:20260316T063124Z
UID:22625-1789151400-1789153200@operacluj.ro
SUMMARY:GALA - VERUM SOLITUS INTERNATIONAL Vocal Competition
DESCRIPTION:Opera Națională Română Cluj-Napoca vă invită să luați parte la GALA VERUM SOLITUS INTERNATIONAL Vocal Competition\, un proiect cultural ce aduce în lumina reflectoarelor un concurs extraordinar de interpretare muzicală – canto. \nEvenimentul culminează cu Gala Laureaților\, o seară deosebită în care cei 10 artiști lirici selectați pentru finală își vor încânta publicul cu performanțe remarcabile. În timpul acestei seri speciale\, cei patru câștigători ai competiției vor fi dezvăluiți. Însă\, diferit de alte concursuri\, verdictul nu va fi doar al juriului\, ci și al publicului\, care va avea ocazia să își exprime preferințele prin vot online\, în timp real\, pentru interpretul lor favorit. \nTe invităm să fii parte din juriul finalei și să îți alegi câștigătorul personal\, contribuind la atmosfera plină de emoție și suspans.  \nVino și votează câștigătorul într-o seară muzicală deosebită\, în care selecțiile de arii din opere vor scrie istorie în viața unor tineri artiști lirici talentați! \nVârstă recomandată: 7+ \nSponsor principal: BT ASSET MANAGEMENT
URL:https://operacluj.ro/spectacole/stagiunea-2026-2027/galaverumsolitusinternationalvocalcompetition-11-septembrie-2026-18-30/
CATEGORIES:Gală de operă
ATTACH;FMTTYPE=image/jpeg:https://images.operacluj.ro/2023/04/WhatsApp-Image-2023-04-19-at-11.19.48.jpeg
END:VEVENT
END:VCALENDAR