BEGIN:VCALENDAR
VERSION:2.0
PRODID:-//Opera Națională Română Cluj-Napoca - ECPv5.16.4//NONSGML v1.0//EN
CALSCALE:GREGORIAN
METHOD:PUBLISH
X-WR-CALNAME:Opera Națională Română Cluj-Napoca
X-ORIGINAL-URL:https://operacluj.ro
X-WR-CALDESC:Events for Opera Națională Română Cluj-Napoca
BEGIN:VTIMEZONE
TZID:UTC
BEGIN:STANDARD
TZOFFSETFROM:+0000
TZOFFSETTO:+0000
TZNAME:UTC
DTSTART:20200101T000000
END:STANDARD
END:VTIMEZONE
BEGIN:VEVENT
DTSTART;TZID=UTC:20200601T100000
DTEND;TZID=UTC:20200601T170000
DTSTAMP:20260425T125332
CREATED:20200511T082250Z
LAST-MODIFIED:20200602T162909Z
UID:11432-1591005600-1591030800@operacluj.ro
SUMMARY:ONLINE: THE OLD MAN'S DAUGHTER AND THE OLD WOMAN'S DAUGHTER
DESCRIPTION:Recording made in partnership with TVR Cluj on February 29\, 2016. Performance made in partnership with the “Puck” Puppet Theater. \nOperetta in an act (3 paintings). The show reminiscent of  Ion Creangă\, brimming with momentum in childhood\, fascinates the small spectators at once\, in a fairy tale set on notes\, which gives birth to the most unexpected characters. Adapted from the operetta “The Hardworking Old Man’s Daughter “\, written in 1982 by the composer Florin Comișel\, the show is based on the libretto of Cezar Țipa\, who inspired with inspiration in the popular story characters from two other famous fairy tales\, “Puss in Boots” and “Capra cu trei iezi”\, arousing even more the curiosity and joy of the little ones. \nThe heroine of the operetta\, Ilenuța\, the girl of the old man\, candid and modest\, teaches us how kindness\, hard work\, patience and seriousness are values ​​that help us to have a beautiful life\, with noble aims. At the opposite pole\, Marhiolița\, the old woman’s daughther\, lazy and wicked\, does nothing but intrigue\, remaining ultimately dissatisfied and disappointed. The teachings of the story give birth to an operetta of popular essence\, meant to bring to light the moral values ​​of the Romanian peasant\, in a performance directed by Iulian Ioan Sandu\, successfully doubled in the musical plane by the instrumental arrangement of Flaviu Mogoșan.
URL:https://operacluj.ro/en/spectacole/2019-2020/onlinetheoldmansdaughterandtheoldwomansdaughter-1-june-2020-10-00/
CATEGORIES:matinee,Online performance
ATTACH;FMTTYPE=image/jpeg:https://images.operacluj.ro/2016/07/fata-babei-si-fata-mosului-opera-cluj.jpg
END:VEVENT
END:VCALENDAR