BEGIN:VCALENDAR
VERSION:2.0
PRODID:-//Opera Națională Română Cluj-Napoca - ECPv5.16.4//NONSGML v1.0//EN
CALSCALE:GREGORIAN
METHOD:PUBLISH
X-WR-CALNAME:Opera Națională Română Cluj-Napoca
X-ORIGINAL-URL:https://operacluj.ro
X-WR-CALDESC:Events for Opera Națională Română Cluj-Napoca
BEGIN:VTIMEZONE
TZID:UTC
BEGIN:STANDARD
TZOFFSETFROM:+0000
TZOFFSETTO:+0000
TZNAME:UTC
DTSTART:20200101T000000
END:STANDARD
END:VTIMEZONE
BEGIN:VEVENT
DTSTART;TZID=UTC:20200602T180000
DTEND;TZID=UTC:20200602T183000
DTSTAMP:20260425T111349
CREATED:20200511T082335Z
LAST-MODIFIED:20200603T150325Z
UID:11435-1591120800-1591122600@operacluj.ro
SUMMARY:ONLINE: ZORBA
DESCRIPTION:Recording made in partnership with TVR Cluj.\nShow performed in Greek without Romanian subtitles\nPerformance made in absolute national premiere on 26.05.2017 \n\nBallet in two acts on a libretto by Lorca Massine\, based on Nikos Kazantzakis’ novel Zorba the Greek \nThe myth of Zorba the Greek – a representative of the modern\, nonconformist man who constantly yearns for freedom and independence – has been presented\, throughout the years\, in various ways. First materialized in the novel of the Greek writer Nikos Kazantzakis\, followed by Michael Cacoyannis’ screen adaptation\, the story of John – the American Tourist who arrives in Greece\, willing to get to know the local costumes and to integrate in the new environment\, has been \,\,told” also by ballet foot-steps\, in 1988. The ballet created by Lorca Massine featuring music by the famed Greek composer Mikis Theodorakis was presented in world premiere at Arena di Verona\, subsequently at the Great Theatre of Warsaw (1901)\, and was played afterwards on stages from the entire world\, its lyricism given by the true\, but impossible love between John and the local young Marina and the lively attitude of Zorba – who\, rather from the need to defy the fate\, decides to help John – conquering millions of hearts around the globe. \nA story about the bitter reality of life and death and the trust that small joys will always be present is being retold on our stage by the soloists and the ballet ensemble of the Romanian National Opera in Cluj-Napoca\, wearing the signature of the american choreographer Lorca Massine. We are waiting for you to discover it!
URL:https://operacluj.ro/en/spectacole/2019-2020/onlinezorba-2-june-2020-18-00/
CATEGORIES:ballet,Online performance
ATTACH;FMTTYPE=image/jpeg:https://images.operacluj.ro/2017/03/HEADER-zorba-site-1920x839-px-2.jpg
END:VEVENT
END:VCALENDAR