BEGIN:VCALENDAR
VERSION:2.0
PRODID:-//Opera Națională Română Cluj-Napoca - ECPv5.16.4//NONSGML v1.0//EN
CALSCALE:GREGORIAN
METHOD:PUBLISH
X-WR-CALNAME:Opera Națională Română Cluj-Napoca
X-ORIGINAL-URL:https://operacluj.ro
X-WR-CALDESC:Events for Opera Națională Română Cluj-Napoca
BEGIN:VTIMEZONE
TZID:UTC
BEGIN:STANDARD
TZOFFSETFROM:+0000
TZOFFSETTO:+0000
TZNAME:UTC
DTSTART:20200101T000000
END:STANDARD
END:VTIMEZONE
BEGIN:VEVENT
DTSTART;TZID=UTC:20200619T180000
DTEND;TZID=UTC:20200619T183000
DTSTAMP:20260424T050256
CREATED:20200613T145632Z
LAST-MODIFIED:20200620T145806Z
UID:11669-1592589600-1592591400@operacluj.ro
SUMMARY:ONLINE: DON QUIXOTE
DESCRIPTION:Performance presentend and recorded on 02.10.2019. \nBallet in two acts and a prologue libretto by Miguel de Cervantes’ homonym novel \nAlthough Cervantes’ Don Quixote novel inspired several ballet productions signed by some notorious choreographers\, the Balșoi production (1869) that was born from Marius Petipa’s and Ludwig Minkus’ collaboration brought\, at least to the second of them\, not just and unprecedented succes\, but also the Imperial Ballet from Sankt Petersburg’s official composer position. \nIndeed\, the rhythmic vivacity and enchantingly melodiuous music of the austrian composer’s matched perfectly the comic scenario centerd around lovers Kitri and Basil\, and around Don Quixote. Smitten by Kitri’s beauty\, which makes him confuse her with Dulcineea – the lady of his dreams – Don Quixote starts his search for the girl\, after she runs from home with Basil\, to avoid being parted by her father. The knight will contribute significantly in bringing the two lovers together\, tricking Lorenzo – Kitri’s father – into accepting their marriage. Thus\, the “vicissitudes” fallen over the couple are blithely overpassed and the story ends with a soumptous wedding party\, attended\, for a few moments\, also by the wandering knight and his squire Sancho Panza.
URL:https://operacluj.ro/en/spectacole/2019-2020/onlinedonquixote-19-june-2020-18-00/
CATEGORIES:ballet,Online performance
ATTACH;FMTTYPE=image/jpeg:https://images.operacluj.ro/2016/11/Don-Quijote.jpg
END:VEVENT
END:VCALENDAR