BEGIN:VCALENDAR
VERSION:2.0
PRODID:-//Opera Națională Română Cluj-Napoca - ECPv5.16.4//NONSGML v1.0//EN
CALSCALE:GREGORIAN
METHOD:PUBLISH
X-WR-CALNAME:Opera Națională Română Cluj-Napoca
X-ORIGINAL-URL:https://operacluj.ro
X-WR-CALDESC:Events for Opera Națională Română Cluj-Napoca
BEGIN:VTIMEZONE
TZID:UTC
BEGIN:STANDARD
TZOFFSETFROM:+0000
TZOFFSETTO:+0000
TZNAME:UTC
DTSTART:20200101T000000
END:STANDARD
END:VTIMEZONE
BEGIN:VEVENT
DTSTART;TZID=UTC:20200630T180000
DTEND;TZID=UTC:20200630T183000
DTSTAMP:20260423T114048
CREATED:20200613T084444Z
LAST-MODIFIED:20200701T204943Z
UID:11685-1593540000-1593541800@operacluj.ro
SUMMARY:ONLINE: GISELLE
DESCRIPTION:Performance presented and recorded on 06.11.2019. \nBallet in two acts on libretto by Téophile Gautier & Jules-Henri Saint-Georges\, based on a slavic story found in Heinrich Heine’s album About Germany \nGiselle is not just the best known title within the french composer Adolphe Adam’s oeuvre\, but also a significant work for the Romantic period. The theme of impossible love between mortals and supernatural creatures lays at the basis of the slavic legend of the Wilis (young brides-to-be who have died before the wedding)\, adapted by Heinrich Heine. The idea was subsequently taken over by the novelist\, poet and critic Théophile Gautier; he created the story of a girl who\, after the betrayal of her lover\, dyes from a heart-attack and then returns as a spirit to save him form the Wilis’ revenge; this is actually the fact that will prevent her own transformation. \nThe proposition of such a scenery by Gautier came in tune with the desire of the Paris Opera’s managing board to give the famous italian ballerina Carlotta Grisi the main role in a new choreographic production. Just a few months later\, the librettist Saint-Georges and Adolphe Adam created one of the most fascinating ballet in the history of the genre. \nAfter the premiere of the ballet (June 28 1841) at Paris Opera\, having Carlotta Grisi and Lucien Petipa (Marius Petipa’s brother) as main characters\, Giselle met\, through the years\, significant stagings everywhere in Europe. We are waiting for you to discover it\, this time\, in a performance featuring the soloists\, the orchestra and the ballet ensemble of the Romanian National Opera in Cluj-Napoca!
URL:https://operacluj.ro/en/spectacole/2019-2020/onlinegiselle-30-june-2020-18-00/
CATEGORIES:ballet,Online performance
ATTACH;FMTTYPE=image/jpeg:https://images.operacluj.ro/2018/02/Giselle-Header-site.jpg
END:VEVENT
END:VCALENDAR