BEGIN:VCALENDAR
VERSION:2.0
PRODID:-//Opera Națională Română Cluj-Napoca - ECPv5.16.4//NONSGML v1.0//EN
CALSCALE:GREGORIAN
METHOD:PUBLISH
X-WR-CALNAME:Opera Națională Română Cluj-Napoca
X-ORIGINAL-URL:https://operacluj.ro
X-WR-CALDESC:Events for Opera Națională Română Cluj-Napoca
BEGIN:VTIMEZONE
TZID:UTC
BEGIN:STANDARD
TZOFFSETFROM:+0000
TZOFFSETTO:+0000
TZNAME:UTC
DTSTART:20200101T000000
END:STANDARD
END:VTIMEZONE
BEGIN:VEVENT
DTSTART;TZID=UTC:20200703T180000
DTEND;TZID=UTC:20200703T190000
DTSTAMP:20260423T064125
CREATED:20200613T084420Z
LAST-MODIFIED:20200704T145629Z
UID:11687-1593799200-1593802800@operacluj.ro
SUMMARY:ONLINE: OPERA BALL 2020
DESCRIPTION:Performance recorded in partnership with TVR Cluj and presented on 29.02.2020. \nThe Opera Ball\, the most astonishing and symbolic event of our Opera House\, granted by its 25 year tradition\, addresses yet again a unique classical waltz invitation to all opera lovers. They will not only be spectators of the most awaited event of the year\, but they will also play an active role by accepting our dance invitation to dance. \nThe entire performance hall will be festively decorated\, highlighting the elegance and refinement of Vienna’s traditional Grand Balls. Our seating area in the main hall will be completely redesigned\, being ready to unite the stage and its artists with the public. The spectators will thus be up close to the actual performance\, rejoicing in the beauty of music and choreography. \nThe musical programme is touched by the same concept of elegance\, including orchestral and solistic moments – waltzes\, arias\, ballads\, as well as musical fragments with dancing character – interpreted by lyrical artists\, accompanied by the Ballet Ensemble of The Romanian National Opera in Cluj-Napoca. \nThis year’s edition has the great pleasure of welcoming three special guests: the distinguished soprano Mihaela Marcu\, renowned tenor Ioan Hotea\, and the highly appreciated dulcimer artist Marius Preda – will offer us unforgettable musical moments\, next to the artists of our Opera House. The lyrical and choreographic program will be complimented by the recognition of talent and impressive careers\, acknowledged through a series of Excellence Awards offered during the festive evening\, followed by a very pleasant cocktail break and its invitation to socialise. \nUndoubtedly\, the defining element of the event is the waltz\, an enchanting challenge to dance next to the artists who have just recently sung on stage. As Johann Strauss used to affirm before his Viennese balls\, the invitation Alles walzer! encourages the public to step on the unique dancing floor\, which was the witness of long midnight waltzes\, decades ago. \n  \nCo-Organizers: The Romanian National Opera in Cluj-Napoca and Transilvania Leaders Foundation   \n  \nSupporters of Transilvania Leaders Foundation:\nNTT DATA România\, RMB Inter Auto\, Transavia\, OTC Group\, Electrogrup\, Banca Transilvania\, Darian DRS\, EnergoBit\, Arobs Transilvania Software\, Remarul 16 Februarie \n 
URL:https://operacluj.ro/en/spectacole/2019-2020/onlineoperaball2020-3-july-2020-18-00/
CATEGORIES:Online performance
ATTACH;FMTTYPE=image/jpeg:https://images.operacluj.ro/2019/01/HEADER-balul-operei-site-1920x839-px.jpg
END:VEVENT
END:VCALENDAR