BEGIN:VCALENDAR
VERSION:2.0
PRODID:-//Opera Națională Română Cluj-Napoca - ECPv5.16.4//NONSGML v1.0//EN
CALSCALE:GREGORIAN
METHOD:PUBLISH
X-WR-CALNAME:Opera Națională Română Cluj-Napoca
X-ORIGINAL-URL:https://operacluj.ro
X-WR-CALDESC:Events for Opera Națională Română Cluj-Napoca
BEGIN:VTIMEZONE
TZID:UTC
BEGIN:STANDARD
TZOFFSETFROM:+0000
TZOFFSETTO:+0000
TZNAME:UTC
DTSTART:20220101T000000
END:STANDARD
END:VTIMEZONE
BEGIN:VEVENT
DTSTART;TZID=UTC:20221021T183000
DTEND;TZID=UTC:20221021T190000
DTSTAMP:20260423T201113
CREATED:20220906T102025Z
LAST-MODIFIED:20220906T102025Z
UID:15592-1666377000-1666378800@operacluj.ro
SUMMARY:CARMEN - BALLET
DESCRIPTION:Ballet in five scenes \nMusic: GEORGES BIZET- RODION SCEDRIN \nThe ballet script: EMIL STRUGARU\, after the novel of the same name by PROSPER MÉRIMÉE \nThe impetus and reason for the creation of the ballet “Carmen” was the burning desire of Rodion Scedrin’s wife\, the famous ballerina Maya Plisetskaya\, to reproduce the strong\, impetuous character of the passionate protagonist through dance. Since contemporaries considered that Scedrin’s version “insults Bizet’s masterpiece”\, from which it started as inspiration\, it was necessary for the composer Dmitri Shostakovich himself to intervene in order for the ballet to be found on the list of approval of the communist regime\, an intervention that transformed it in Scedrin’s most famous work. \nBefore 1967\, when the work was written\, Maya Plisetskaya had approached Shostakovich with a view to composing the ballet\, but the response was not up to her expectations; the composer offered him a confession and a justification at the same time: “I’m afraid of Bizet; everyone knows his music\, so however you want to compose\, you’re bound to disappoint.” \nRespecting the same narrative thread of the opera\, the Carmen ballet incites\, delights\, delights\, being crossed by Bizet’s charming melodies\, which Scedrin dressed up with extravagant sound effects and fascinating ornaments\, proving to us\, definitely\, that it will not there was ever room for disappointment in the effect of his music.\n“Carmen” will always charm you\, with a love story carried through intrigues and betrayals\, passion and revenge\, alongside the sensual gypsy and her Don José\, unique and eternal in the universal lyrical repertoire. \nThe show has an intermission and ends around 8:15 pm \nRecommended age: 5 +
URL:https://operacluj.ro/en/spectacole/stagiunea-2022-2023/carmenballet-21-october-2022-18-30/
CATEGORIES:ballet
ATTACH;FMTTYPE=image/jpeg:https://images.operacluj.ro/2022/09/HEADER-carmen-site-1920x839-px.jpg
END:VEVENT
END:VCALENDAR