BEGIN:VCALENDAR
VERSION:2.0
PRODID:-//Opera Națională Română Cluj-Napoca - ECPv5.16.4//NONSGML v1.0//EN
CALSCALE:GREGORIAN
METHOD:PUBLISH
X-WR-CALNAME:Opera Națională Română Cluj-Napoca
X-ORIGINAL-URL:https://operacluj.ro
X-WR-CALDESC:Events for Opera Națională Română Cluj-Napoca
BEGIN:VTIMEZONE
TZID:UTC
BEGIN:STANDARD
TZOFFSETFROM:+0000
TZOFFSETTO:+0000
TZNAME:UTC
DTSTART:20220101T000000
END:STANDARD
END:VTIMEZONE
BEGIN:VEVENT
DTSTART;TZID=UTC:20221109T183000
DTEND;TZID=UTC:20221109T183000
DTSTAMP:20260422T115132
CREATED:20221026T102058Z
LAST-MODIFIED:20221026T105121Z
UID:15737-1668018600-1668018600@operacluj.ro
SUMMARY:THE MERRY WIDOW
DESCRIPTION:Operetta in three acts on a libretto by Victor Léon and Leo Stein after the comedy L’attaché d’ambassade by Henri Meilhac \nPerformance played in Romanian \nRecommended age: 12+ \nThe operetta arranged on composer Franz Lehár’s suave notes has managed to trigger an upsurge of laugh and sympathy since its 1905 absolute premiere\, when the Austrian composer set the tone of a new approach upon the genre. Through “Die lustige Witwe“\, Lehár became instantly a reformer of operetta\, reviving the atmosphere of performance halls all over the world and continuing to this day to fascinate generations of music lovers with its brightness and melodicity. \nThe vivacious and romantic music of “The Merry Widow”\, entwined with the sparkling dialogues of the protagonists\, depict in a delightful manner the precious high society from the 20th century La Belle Époque. The young and seductive widow Hanna and the charming Count Danilo\, the operetta’s heroes\, live a sloppy love story\, among deeply rooted vanities and ambitious intrigues. Everything mixes in a savoury performance\, filled with intense feelings and hilarious twists\, against the sound of passionate waltz and French can-can\, much to the public’s delight. \nThe performance has three intermissions and ends at around 9.30 p.m.
URL:https://operacluj.ro/en/spectacole/stagiunea-2022-2023/themerrywidow-9-november-2022-18-30/
CATEGORIES:operetta
ATTACH;FMTTYPE=image/jpeg:https://images.operacluj.ro/2017/10/vaduva-site-1920x839-px.jpg
END:VEVENT
END:VCALENDAR