BEGIN:VCALENDAR
VERSION:2.0
PRODID:-//Opera Națională Română Cluj-Napoca - ECPv5.16.4//NONSGML v1.0//EN
CALSCALE:GREGORIAN
METHOD:PUBLISH
X-WR-CALNAME:Opera Națională Română Cluj-Napoca
X-ORIGINAL-URL:https://operacluj.ro
X-WR-CALDESC:Events for Opera Națională Română Cluj-Napoca
BEGIN:VTIMEZONE
TZID:UTC
BEGIN:STANDARD
TZOFFSETFROM:+0000
TZOFFSETTO:+0000
TZNAME:UTC
DTSTART:20220101T000000
END:STANDARD
END:VTIMEZONE
BEGIN:VEVENT
DTSTART;TZID=UTC:20221116T150000
DTEND;TZID=UTC:20221116T170000
DTSTAMP:20260422T003030
CREATED:20221107T120713Z
LAST-MODIFIED:20221107T120713Z
UID:15827-1668610800-1668618000@operacluj.ro
SUMMARY:Guided Tours / Tururi Ghidate
DESCRIPTION:Step into the world of Romania’s first opera institution and find out all about what goes on behind the curtain. During the tour you will learn more about the history and architecture of the building and of this opera institution in general. You will get to visit the main foyer\, enter the first floor boxes\, visit the second-tier foyer\, the balcony foyer\, the performance hall\, and the artists’ dressing rooms. \n  \nInformation:  \nMaximum number of participants: 25 \nApproximate duration: 40 minutes \nLanguage of the tour: Romanian or English – for English\, after purchasing the ticket\, please send an email to pr@operacluj.ro and let us know you’re coming. \nAccess: Please be at the main entrance 10 minutes before the start of the tour* \n*During the restoration works of the Stefan cel Mare Park\, access to the building will be through the side door on the west side (opposite Panemar). \nFor organised groups or special events send us an email at: pr@operacluj.ro
URL:https://operacluj.ro/en/spectacole/stagiunea-2022-2023/guidedtourstururighidate-16-november-2022-15-00/
CATEGORIES:Guided tour
ATTACH;FMTTYPE=image/jpeg:https://images.operacluj.ro/2022/11/HEADER-site-1920x839-px.jpg
END:VEVENT
BEGIN:VEVENT
DTSTART;TZID=UTC:20221116T183000
DTEND;TZID=UTC:20221116T183000
DTSTAMP:20260422T003030
CREATED:20221026T103446Z
LAST-MODIFIED:20221026T104720Z
UID:15741-1668623400-1668623400@operacluj.ro
SUMMARY:UN BALLO IN MASCHERA
DESCRIPTION:Opera in three acts (libretto by Antonio Somma\, based on Eugéne Scribe’s Gustav the Third) \nRecommended Age: 7+ \nUn ballo in maschera found itself for the first time in the spotlight on Apollo’s Theatre stage in Rome\, becoming famous not just as an operatic masterpiece\, but also due to its controversial libretto\, based on the tragic story of King Gustav the Third of Sweden\, that also brought the work under the censorship effects for a long period of time. \nThe historical setting is centred upon Riccardo – Count of Warwick\, his truthful friend Renato and his wife\, Amelia – caught in between the two men’s love. The medieval story fascinates by its passion and intrigues\, the sanctity of friendship and honour\, the pain as a consequence of hidden love-triangles\, and betrayal that\, with-or-without masque\, will always require huge costs in exchange. This verdian production of The Romanian National Opera in Cluj-Napoca keeps its classic essence\, the characters\, decor and stage directions’ original nature\, looking forward to a natural rendering of the whole action\, but also of the intense feelings of its heroes. \nWe are expecting You to discover what lays beyond the elegant masks in a legendary opera! \nThe performance has two intermissions and ends around 9.30 p.m.
URL:https://operacluj.ro/en/spectacole/stagiunea-2022-2023/unballoinmaschera-16-november-2022-18-30/
CATEGORIES:opera
ATTACH;FMTTYPE=image/jpeg:https://images.operacluj.ro/2018/09/Bal-mascat-header-final.jpg
END:VEVENT
END:VCALENDAR