BEGIN:VCALENDAR
VERSION:2.0
PRODID:-//Opera Națională Română Cluj-Napoca - ECPv5.16.4//NONSGML v1.0//EN
CALSCALE:GREGORIAN
METHOD:PUBLISH
X-WR-CALNAME:Opera Națională Română Cluj-Napoca
X-ORIGINAL-URL:https://operacluj.ro
X-WR-CALDESC:Events for Opera Națională Română Cluj-Napoca
BEGIN:VTIMEZONE
TZID:UTC
BEGIN:STANDARD
TZOFFSETFROM:+0000
TZOFFSETTO:+0000
TZNAME:UTC
DTSTART:20220101T000000
END:STANDARD
END:VTIMEZONE
BEGIN:VEVENT
DTSTART;TZID=UTC:20221214T150000
DTEND;TZID=UTC:20221214T170000
DTSTAMP:20260420T001553
CREATED:20221107T121611Z
LAST-MODIFIED:20221107T121611Z
UID:15843-1671030000-1671037200@operacluj.ro
SUMMARY:Guided Tours / Tururi Ghidate
DESCRIPTION:Step into the world of Romania’s first opera institution and find out all about what goes on behind the curtain. During the tour you will learn more about the history and architecture of the building and of this opera institution in general. You will get to visit the main foyer\, enter the first floor boxes\, visit the second-tier foyer\, the balcony foyer\, the performance hall\, and the artists’ dressing rooms. \n  \nInformation:  \nMaximum number of participants: 25 \nApproximate duration: 40 minutes \nLanguage of the tour: Romanian or English – for English\, after purchasing the ticket\, please send an email to pr@operacluj.ro and let us know you’re coming. \nAccess: Please be at the main entrance 10 minutes before the start of the tour* \n*During the restoration works of the Stefan cel Mare Park\, access to the building will be through the side door on the west side (opposite Panemar). \nFor organised groups or special events send us an email at: pr@operacluj.ro
URL:https://operacluj.ro/en/spectacole/stagiunea-2022-2023/guidedtourstururighidate-14-december-2022-15-00/
CATEGORIES:Guided tour
ATTACH;FMTTYPE=image/jpeg:https://images.operacluj.ro/2022/11/HEADER-site-1920x839-px.jpg
END:VEVENT
END:VCALENDAR