BEGIN:VCALENDAR
VERSION:2.0
PRODID:-//Opera Națională Română Cluj-Napoca - ECPv5.16.4//NONSGML v1.0//EN
CALSCALE:GREGORIAN
METHOD:PUBLISH
X-WR-CALNAME:Opera Națională Română Cluj-Napoca
X-ORIGINAL-URL:https://operacluj.ro
X-WR-CALDESC:Events for Opera Națională Română Cluj-Napoca
BEGIN:VTIMEZONE
TZID:UTC
BEGIN:STANDARD
TZOFFSETFROM:+0000
TZOFFSETTO:+0000
TZNAME:UTC
DTSTART:20250101T000000
END:STANDARD
END:VTIMEZONE
BEGIN:VEVENT
DTSTART;TZID=UTC:20250511T190000
DTEND;TZID=UTC:20250511T213000
DTSTAMP:20260423T031923
CREATED:20250410T070257Z
LAST-MODIFIED:20250410T070317Z
UID:20757-1746990000-1746999000@operacluj.ro
SUMMARY:Cluj Chamber Music Festival: Sound Reflections
DESCRIPTION:Now in its third edition\, the Cluj Chamber Music Festival brings to the forefront the beauty and refinement of chamber music. Taking place between May 9–20\, across various venues in Cluj-Napoca\, the festival presents 11 recitals performed by prestigious artists from the Romanian National Opera in Cluj-Napoca\, alongside special guests from Romania and abroad. \nOn Sunday\, May 11\, at 7:00 PM\, at Casa Numaa\, the Cluj Chamber Music Festival offers an evening dedicated to the young generation of artists. \nUnder the title Sound Reflections\, chamber ensembles made up of students from the Gheorghe Dima National Academy of Music in Cluj-Napoca will perform well-known works from the international chamber music repertoire. This concert brings forward the talent and passion of musicians at the beginning of their journey\, offering the audience a vibrant and authentic musical experience. \nWe warmly invite you to discover the energy and sensitivity of the new generation of performers! \nThe event has no intermission and will end around 8:30 PM. \nRecommended age: 12+
URL:https://operacluj.ro/en/spectacole/2024-2025/clujchambermusicfestivalsoundreflections-11-may-2025-19-00/
CATEGORIES:recital
ATTACH;FMTTYPE=image/png:https://images.operacluj.ro/2025/03/Header-Site_Cluj-Chamber-Music_1920-x-839-1.png
END:VEVENT
END:VCALENDAR