BEGIN:VCALENDAR
VERSION:2.0
PRODID:-//Opera Națională Română Cluj-Napoca - ECPv5.16.4//NONSGML v1.0//EN
CALSCALE:GREGORIAN
METHOD:PUBLISH
X-WR-CALNAME:Opera Națională Română Cluj-Napoca
X-ORIGINAL-URL:https://operacluj.ro
X-WR-CALDESC:Events for Opera Națională Română Cluj-Napoca
BEGIN:VTIMEZONE
TZID:UTC
BEGIN:STANDARD
TZOFFSETFROM:+0000
TZOFFSETTO:+0000
TZNAME:UTC
DTSTART:20250101T000000
END:STANDARD
END:VTIMEZONE
BEGIN:VEVENT
DTSTART;TZID=UTC:20250627T160000
DTEND;TZID=UTC:20250627T235900
DTSTAMP:20260419T195352
CREATED:20250617T100017Z
LAST-MODIFIED:20250617T100109Z
UID:21305-1751040000-1751068740@operacluj.ro
SUMMARY:International Festival Opera Aperta 2025: OPERA FAIR
DESCRIPTION:INTERNATIONAL FESTIVAL OPERA APERTA 2025 \nOPERA FAIR is the thematic fair of the Romanian National Opera House Cluj-Napoca\, organized as part of the Opera Aperta International Festival. Set in Ștefan cel Mare Park\, right behind the Opera House building\, OPERA FAIR offers visitors a vibrant\, interactive\, and creative space\, adding a community-driven and lifestyle dimension to the festival’s artistic experience. \nOver the course of two weekends\, numerous wooden booths will showcase local and national brands: handcrafted creations\, design objects\, literature\, visual arts\, jewelry\, cosmetics\, delicacies\, children’s products\, and sustainable concepts. \nOPERA FAIR is not just a fair — it is a meeting point between culture\, creativity\, and community. The program includes: \n➡️ CineOpera – film screenings\, animations\, and video productions from the international operatic heritage\, projected on a large outdoor LED screen;➡️ Recitals\, concerts\, and surprise lyrical moments on the stage set behind the Opera House\, throughout the fair;➡️ Interactive workshops for children – music\, painting\, instrument-making\, and creative games;➡️ Brand activations and public experiences – tastings\, contests\, and themed product showcases;➡️ Relaxation and social areas\, themed decorations\, and ambient musical atmosphere. \nThrough this concept\, OPERA FAIR becomes a true cultural and community hub\, where the public can explore\, each day of the festival\, the art\, creativity\, and elegance of Cluj\, in a friendly and accessible setting. \nADMISSION IS FREE \nRecommended age: 3+
URL:https://operacluj.ro/en/spectacole/2024-2025/internationalfestivaloperaaperta2025operafair-27-june-2025-16-00/
CATEGORIES:opera fair,workshop
ATTACH;FMTTYPE=image/png:https://images.operacluj.ro/2025/05/Header-Site_1920-x-839-16.png
END:VEVENT
BEGIN:VEVENT
DTSTART;TZID=UTC:20250627T203000
DTEND;TZID=UTC:20250627T213000
DTSTAMP:20260419T195352
CREATED:20250604T061321Z
LAST-MODIFIED:20250626T060355Z
UID:21082-1751056200-1751059800@operacluj.ro
SUMMARY:International Festival Opera Aperta 2025: MARIA DE BUENOS AIRES
DESCRIPTION:INTERNATIONAL FESTIVAL OPERA APERTA 2025 \nTango Operita Performance \nOPERA APERTA INTERNATIONAL FESTIVAL 2025 \nMaría de Buenos Aires is a tango operita in two acts with music by Ástor Piazzolla and a libretto by Horacio Ferrer\, first premiered in 1968 in Buenos Aires. Considered one of Piazzolla’s most original creations\, this work explores the boundaries between music\, poetry\, theater\, and dance in a symbolic\, dark\, and poetic universe. \nThe story follows María\, a woman born “on a day when God was drunk with sadness\,” who lives on the margins of society in the shadowy neighborhoods of Buenos Aires. The first part depicts her life as a prostitute\, while the second takes place after her death\, as she returns as a ghost\, perhaps sacred\, perhaps mythical. Surrounded by an array of characters – from a poet-narrator and grotesque duende\, to puppets\, laborers\, and psychoanalysts – the tale forms a surrealist collage blending urban reality\, lyricism\, and religious references. \nThis is no traditional opera: the dance is tango\, not ballet\, and the music belongs to the nuevo tango style\, which fuses traditional tango with jazz and contemporary music. The atmosphere is intense\, sensual\, visceral – pulsing with the unmistakable rhythms of Piazzolla. \nOriginally inspired by Egle Martin\, the role of María was ultimately made iconic by Amelita Baltar\, whose expressive voice and commanding presence became the soul of the character. Over time\, María de Buenos Aires has been reimagined through expanded orchestration\, theatrical productions\, and experimental interpretations. \nPerformed in Spanish with Romanian surtitles. \nRecommended age: 14+
URL:https://operacluj.ro/en/spectacole/2024-2025/internationalfestivaloperaaperta2025mariadebuenosaires-27-june-2025-20-30/
CATEGORIES:Tango-operita
ATTACH;FMTTYPE=image/png:https://images.operacluj.ro/2025/05/Header-Site_1920-x-839-6.png
END:VEVENT
BEGIN:VEVENT
DTSTART;TZID=UTC:20250627T235900
DTEND;TZID=UTC:20250627T235900
DTSTAMP:20260419T195352
CREATED:20250604T061345Z
LAST-MODIFIED:20250604T061345Z
UID:21084-1751068740-1751068740@operacluj.ro
SUMMARY:International Festival Opera Aperta 2025: NOCTURNES
DESCRIPTION:INTERNATIONAL FESTIVAL OPERA APERTA 2025 \nAs the city sinks into the stillness of night\, the music of Chopin and Ravel emerges like a soothing embrace in a late-night recital that promises a rare sensory experience. At midnight\, pianist Vladimir Petrov – known for his elegance and expressive depth – performs a selection of works that blend dreaminess\, melancholy\, and virtuosity. \nThe program includes romantic gems – nocturnes\, mazurkas\, waltzes\, and a sonata by Frédéric Chopin – as well as Ravel’s impressionist masterpiece Gaspard de la Nuit\, a work of extraordinary expressive power. \nAn intimate\, poetic recital crafted for that magical moment when the night speaks only in sound. A moment to be listened to with an open heart. \nRecommended age: 14+
URL:https://operacluj.ro/en/spectacole/2024-2025/internationalfestivaloperaaperta2025nocturnes-27-june-2025-23-59/
CATEGORIES:recital
ATTACH;FMTTYPE=image/png:https://images.operacluj.ro/2025/05/Header-Site_1920-x-839-9.png
END:VEVENT
BEGIN:VEVENT
DTSTART;TZID=UTC:20250627T235900
DTEND;TZID=UTC:20250627T235900
DTSTAMP:20260419T195352
CREATED:20250604T061417Z
LAST-MODIFIED:20250604T075503Z
UID:21086-1751068740-1751068740@operacluj.ro
SUMMARY:International Festival Opera Aperta 2025: VIVALDI - THE FOUR SEASONS (Recomposed by Max Richter)
DESCRIPTION:INTERNATIONAL FESTIVAL OPERA APERTA 2025 \nA concert like a dream – an audiovisual reverie where sound and image merge into a fully immersive experience. \nAt midnight\, in the unique atmosphere of MINA – Museum of Immersive New Art – the Aperto Chamber Orchestra presents one of the most acclaimed reinterpretations of the classical repertoire: The Four Seasons Recomposed by Max Richter. The piece retains the essence of Vivaldi’s baroque original but reimagines it with a contemporary\, minimalist\, and deeply emotional musical language. \nA dialogue between past and present\, precision and fantasy\, where each season takes on a new shape – more fragile\, more meditative\, more cinematic. In a cutting-edge visual environment\, this concert becomes a multisensory journey\, ideal for those seeking new ways to connect with classical music. \nRecommended age: 14+
URL:https://operacluj.ro/en/spectacole/2024-2025/internationalfestivaloperaaperta2025vivaldithefourseasonsrecomposedbymaxrichter-27-iunie-2025-23-59/
CATEGORIES:Concert
ATTACH;FMTTYPE=image/png:https://images.operacluj.ro/2025/05/Header-Site_1920-x-839-7.png
END:VEVENT
BEGIN:VEVENT
DTSTART;TZID=UTC:20250627T235900
DTEND;TZID=UTC:20250627T235900
DTSTAMP:20260419T195352
CREATED:20250617T100035Z
LAST-MODIFIED:20250617T100035Z
UID:21090-1751068740-1751068740@operacluj.ro
SUMMARY:International Festival Opera Aperta 2025: DUO KITHARSIS
DESCRIPTION:INTERNATIONAL FESTIVAL OPERA APERTA 2025 \nIn the quiet of the night\, in an elegant and intimate setting\, Duo Kitharsis – composed of guitarists Alexandra Petrișor and Dragoș Horghidan – offers a classical guitar recital that promises to enchant both the soul and the senses. With an impressive international career\, the duo has been acclaimed on stages in Romania and abroad for their sensitive interpretations and remarkable technical virtuosity. \nThe evening’s program features works from the classical and romantic repertoire\, as well as pieces inspired by Romanian and Spanish folklore\, artfully arranged for guitar duo. Audiences will enjoy a wide palette of sounds – from the delicacy of a serenade to the vibrant rhythms of a hora or fandango. \nAn exceptional event that blends the refinement of classical music with the passionate performance of outstanding artists\, in a night filled with charm. \nRecommended age: 14+
URL:https://operacluj.ro/en/spectacole/2024-2025/internationalfestivaloperaaperta2025duokitharsis-27-june-2025-23-59/
CATEGORIES:recital
ATTACH;FMTTYPE=image/png:https://images.operacluj.ro/2025/05/Header-Site_1920-x-839-18.png
END:VEVENT
END:VCALENDAR